BEGIN:VCALENDAR
VERSION:2.0
PRODID:-//ChamberMaster//Event Calendar 2.0//EN
METHOD:PUBLISH
X-PUBLISHED-TTL:P3D
REFRESH-INTERVAL:P3D
CALSCALE:GREGORIAN
BEGIN:VEVENT
DTSTART:20250410T210000Z
DTEND:20250410T230000Z
X-MICROSOFT-CDO-ALLDAYEVENT:FALSE
SUMMARY:Youth Career Exploring: Aviation
DESCRIPTION:For all youth ages 14-20 interested in Aviation Careers!  \n\n\n\nWork hands-on with the professionals at St Cloud Aviation in this 6-week career Exploring post!  Try a little bit of each field just for fun\, or to find out which area of Aviation suits you best.\n\n\n\nBegins March 20\, 2025.  Visit our website for the full schedule\,\, details\, and registration materials at bsacmc.org/exploring (Registration required)
X-ALT-DESC;FMTTYPE=text/html:For all youth ages 14-20 interested in Aviation Careers!&nbsp\;&nbsp\;<br />\n<br />\nWork hands-on with the professionals at St Cloud Aviation in this 6-week career Exploring post!&nbsp\; Try a little bit of each field just for fun\, or to find out which area of Aviation suits you best.<br />\n<br />\nBegins March 20\, 2025.&nbsp\; Visit our website for the full schedule\,\, details\, and registration materials at bsacmc.org/exploring (Registration required)
LOCATION:St Cloud Aviation (1544 45th Ave SE\, St Cloud\, MN 56304)
UID:e.2754.11410
SEQUENCE:3
DTSTAMP:20260423T053449Z
URL:https://chambermaster.businesscentralmagazine.com/events/details/youth-career-exploring-aviation-04-10-2025-11410
END:VEVENT

END:VCALENDAR
