BEGIN:VCALENDAR
VERSION:2.0
PRODID:-//ChamberMaster//Event Calendar 2.0//EN
METHOD:PUBLISH
X-PUBLISHED-TTL:P3D
REFRESH-INTERVAL:P3D
CALSCALE:GREGORIAN
BEGIN:VEVENT
DTSTART;VALUE=DATE:19970122
DTEND;VALUE=DATE:19970123
TRANSP:TRANSPARENT
X-MICROSOFT-CDO-ALLDAYEVENT:TRUE
SUMMARY:Year 2 - Partners In Education Stakeho
DESCRIPTION:
X-ALT-DESC;FMTTYPE=text/html:
LOCATION:
UID:e.2754.544
SEQUENCE:3
DTSTAMP:20260423T043943Z
URL:https://chambermaster.businesscentralmagazine.com/events/details/year-2-partners-in-education-stakeho-01-22-1997-544
END:VEVENT

END:VCALENDAR
