BEGIN:VCALENDAR
VERSION:2.0
PRODID:-//ChamberMaster//Event Calendar 2.0//EN
METHOD:PUBLISH
X-PUBLISHED-TTL:P3D
REFRESH-INTERVAL:P3D
CALSCALE:GREGORIAN
BEGIN:VEVENT
DTSTART:20260622T223000Z
DTEND:20260623T003000Z
X-MICROSOFT-CDO-ALLDAYEVENT:FALSE
SUMMARY:Widows Social
DESCRIPTION:Join us for our monthly Widow Social at Bri's Lodge ??\n\nThis is a relaxed\, come-as-you-are space for widows to connect\, share food\, and spend time together in a setting that feels natural and supportive. No formal group just conversation\, connection\, and community.\n\nEach month looks a little different sometimes it's pizza\, subs\, hot dogs\, or even a bring-your-own dish to share along with a simple activity.\n\nChildren are always welcome\, and our Kids Companion Room offers a space for kids to connect and play.\n\nFree to attend. You don't have to do this alone.
X-ALT-DESC;FMTTYPE=text/html:<p>Join us for our monthly <strong>Widow Social</strong> at Bri&rsquo\;s Lodge ??</p>\n\n<p>This is a relaxed\, come-as-you-are space for widows to connect\, share food\, and spend time together in a setting that feels natural and supportive. No formal group&mdash\;just conversation\, connection\, and community.</p>\n\n<p>Each month looks a little different&mdash\;sometimes it&rsquo\;s pizza\, subs\, hot dogs\, or even a bring-your-own dish to share&mdash\;along with a simple activity.</p>\n\n<p>Children are always welcome\, and our Kids Companion Room offers a space for kids to connect and play.</p>\n\n<p>Free to attend. You don&rsquo\;t have to do this alone.</p>\n
LOCATION:Bri's Lodge 406 Great Oak Drive Waite Park\, MN 56387
UID:e.2754.12629
SEQUENCE:3
DTSTAMP:20260422T103227Z
URL:https://chambermaster.businesscentralmagazine.com/events/details/widows-social-06-22-2026-12629
END:VEVENT

END:VCALENDAR
