BEGIN:VCALENDAR
VERSION:2.0
PRODID:-//ChamberMaster//Event Calendar 2.0//EN
METHOD:PUBLISH
X-PUBLISHED-TTL:P3D
REFRESH-INTERVAL:P3D
CALSCALE:GREGORIAN
BEGIN:VEVENT
DTSTART:19980423T050000Z
DTEND:19980423T050000Z
X-MICROSOFT-CDO-ALLDAYEVENT:FALSE
SUMMARY:Where's the money Financing Your Business
DESCRIPTION:Where's the money?  Financing Your Business
X-ALT-DESC;FMTTYPE=text/html:Where's the money?  Financing Your Business
LOCATION:
UID:e.2754.2286
SEQUENCE:3
DTSTAMP:20260420T051312Z
URL:https://chambermaster.businesscentralmagazine.com/events/details/where-s-the-money-financing-your-business-04-23-1998-2286
END:VEVENT

END:VCALENDAR
