BEGIN:VCALENDAR
VERSION:2.0
PRODID:-//ChamberMaster//Event Calendar 2.0//EN
METHOD:PUBLISH
X-PUBLISHED-TTL:P3D
REFRESH-INTERVAL:P3D
CALSCALE:GREGORIAN
BEGIN:VEVENT
DTSTART;VALUE=DATE:20250407
DTEND;VALUE=DATE:20250411
TRANSP:TRANSPARENT
X-MICROSOFT-CDO-ALLDAYEVENT:TRUE
SUMMARY:Washington\, D.C. Fly-In April 7-10\, 2025
DESCRIPTION:Registration is now open for one of the Chamber's most valuable and rewarding events of the year! Each spring\, St. Cloud Area Chamber members travel to Washington\, D.C. to connect directly with Minnesota's congressional delegation\, federal officials\, and the U.S. Chamber of Commerce. This is a unique opportunity to advocate for business priorities and engage in meaningful discussions about issues affecting our region.\n\n \n\nPlans for the 2025 Fly-In are well underway\, and we look forward to having you join us! Register by March 1 to receive an Early Bird Bonus!\n\n \n\nHOW TO PARTICIPATE:\n\n \n\n REGISTRATION & ACCOMMODATIONS\n\nRegister by clicking on the blue "Register" button on the right.\n\nThe registration fee is $250 per person for all Chamber members. Spouses or travel companions must register and pay the $250 fee if they plan to participate in planned meal functions and meetings (please contact Julie if you have any questions).\n\n \n\nHost Hotel\n\n Hotel Washington\n\n515 15th St. NW\n\nWashington DC 20004\n\nRoom Rate $439 per night +tax. Reserve your room during registration. No need to contact the hotel   your room will be reserved through the Chamber when you register.\n\nEarly Bird Bonus! Register by March 1 and receive a $150 hotel room credit.  \n\n \n\n \n\n BOOK YOUR FLIGHT\n\nFor your convenience\, consider these flight selections:\n\n   Departure   April 7: MSP to DCA | Delta 2983 | 10:30 AM   1:55 PM ($610 roundtrip as of 2/5)\n\n   Return   April 10: DCA to MSP | Delta 2958 | 12:00 PM   1:43 PM\n\nFeel free to book any flight that suits your schedule. \n\nAn opening reception is scheduled for 5:00 PM on Monday\, April 7\, at the Hotel Washington\, followed by dinner.\n\n \n\n \n\n WHAT TO EXPECT\n\n  A detailed itinerary will be shared as the trip approaches\, but here's a glimpse of what's planned:\n\n	Meetings with members of Congress and government leaders\n	Discussions with the U.S. Chamber of Commerce\n	Exclusive networking opportunities\n	And so much MORE!\n\n \n\n   Dinners on April 7\, 8\, and 9 are included in your registration. All other meals and transportation are at your discretion.\n\n \n\n \n\n  PRE-DEPARTURE HAPPY HOUR\n\n  April 1\,  5:00 PM at Iron Street Distillery\n\nMeet your fellow travelers\, review trip details\, and get excited for an unforgettable trip!!\n\n \n\n \n\nREADY TO GO?\n\nWe can't wait to share this incredible experience with you in our nation's capital. If you have any questions or need assistance with travel arrangements\, please contact:\n\n  Julie Lunning   (320) 249-2765\n\n  Steve Gottwalt (Government Affairs Chair)   (952) 923-5265\n\n \n\nSee you in Washington\, D.C.!
X-ALT-DESC;FMTTYPE=text/html:<span style="font-size:12.0pt\;">Registration is now open for one of the Chamber&rsquo\;s most valuable and rewarding events of the year! Each spring\, St. Cloud Area Chamber members travel to Washington\, D.C. to connect directly with Minnesota&rsquo\;s congressional delegation\, federal officials\, and the U.S. Chamber of Commerce. This is a unique opportunity to advocate for business priorities and engage in meaningful discussions about issues affecting our region.</span><br />\n&nbsp\;<br />\n<span style="font-size:12.0pt\;">Plans for the <strong>2025 Fly-In</strong> are well underway\, and we look forward to having you join us! Register by March 1 to receive an <strong><em>Early Bird Bonus!</em></strong></span><br />\n&nbsp\;<br />\n<strong><u><span style="font-size:12.0pt\;">HOW TO PARTICIPATE:</span></u></strong><br />\n&nbsp\;<br />\n<strong><span style="font-family:segoe ui emoji\,sans-serif\;"><span style="font-size:12.0pt\;">&#128313\;</span></span></strong><strong><span style="font-size:12.0pt\;">REGISTRATION &amp\; ACCOMMODATIONS</span></strong><br />\n<strong><span style="font-size:12.0pt\;">Register by clicking on the blue &quot\;Register&quot\; button on the right.</span></strong><br />\n<span style="font-size:12.0pt\;">The registration fee is $250 per person for all Chamber members. Spouses or travel companions must register and pay the $250 fee if they plan to participate in planned meal functions and meetings (please contact Julie if you have any questions).</span><br />\n&nbsp\;<br />\n<strong><span style="font-size:12.0pt\;">Host Hotel</span></strong><br />\n<span style="font-family:segoe ui emoji\,sans-serif\;"><span style="font-size:12.0pt\;">&#128205\;</span></span><span style="font-size:12.0pt\;">Hotel Washington</span><br />\n<span style="font-size:12.0pt\;">515 15th St. NW</span><br />\n<span style="font-size:12.0pt\;">Washington DC 20004</span><br />\n<span style="font-size:12.0pt\;">Room Rate $439 per night +tax. Reserve your room during registration. No need to contact the hotel &ndash\; your room will be reserved through the Chamber when you register.</span><br />\n<strong><em><span style="font-size:12.0pt\;">Early Bird Bonus!</span></em></strong><span style="font-size:12.0pt\;"> Register by March 1 and receive a $150 hotel room credit. &nbsp\;</span><br />\n&nbsp\;<br />\n&nbsp\;<br />\n<strong><span style="font-family:segoe ui emoji\,sans-serif\;"><span style="font-size:12.0pt\;">&#128313\;</span></span></strong><strong><span style="font-size:12.0pt\;">BOOK YOUR FLIGHT</span></strong><br />\n<span style="font-size:12.0pt\;">For your convenience\, consider these flight selections:</span><br />\n<span style="font-family:segoe ui emoji\,sans-serif\;"><span style="font-size:12.0pt\;">&#9992\;&#65039\;</span></span><span style="font-size:12.0pt\;"> Departure &ndash\; April 7: MSP to DCA | Delta 2983 | 10:30 AM &ndash\; 1:55 PM ($61<u>0</u> roundtrip as of 2/5)</span><br />\n<span style="font-family:segoe ui emoji\,sans-serif\;"><span style="font-size:12.0pt\;">&#9992\;&#65039\;</span></span><span style="font-size:12.0pt\;"> Return &ndash\; April 10: DCA to MSP | Delta 2958 | 12:00 PM &ndash\; 1:43 PM</span><br />\n<span style="font-size:12.0pt\;">Feel free to book any flight that suits your schedule. </span><br />\n<span style="font-size:12.0pt\;">An opening reception is scheduled for 5:00 PM on Monday\, April 7\, at the Hotel Washington\, followed by dinner.</span><br />\n&nbsp\;<br />\n&nbsp\;<br />\n<strong><span style="font-family:segoe ui emoji\,sans-serif\;"><span style="font-size:12.0pt\;">&#128313\;</span></span></strong><strong><span style="font-size:12.0pt\;">WHAT TO EXPECT</span></strong><br />\n<span style="font-family:segoe ui emoji\,sans-serif\;"><span style="font-size:12.0pt\;">&#128197\;</span></span><span style="font-size:12.0pt\;"> A detailed itinerary will be shared as the trip approaches\, but here&rsquo\;s a glimpse of what&rsquo\;s planned:</span>\n<ul>\n	<li style="margin-left:0in\;"><span style="font-size:12.0pt\;">Meetings with members of Congress and government leaders</span></li>\n	<li style="margin-left:0in\;"><span style="font-size:12.0pt\;">Discussions with the U.S. Chamber of Commerce</span></li>\n	<li style="margin-left:0in\;"><span style="font-size:12.0pt\;">Exclusive networking opportunities</span></li>\n	<li style="margin-left:0in\;"><span style="font-size:12.0pt\;">And so much MORE!</span></li>\n</ul>\n&nbsp\;<br />\n<span style="font-family:segoe ui emoji\,sans-serif\;"><span style="font-size:12.0pt\;">&#127869\;&#65039\;</span></span><span style="font-size:12.0pt\;"> Dinners on April 7\, 8\, and 9 are included in your registration. All other meals and transportation are at your discretion.</span><br />\n&nbsp\;<br />\n&nbsp\;<br />\n<span style="font-family:segoe ui emoji\,sans-serif\;"><span style="font-size:12.0pt\;">&#127881\;</span></span><span style="font-size:12.0pt\;"> <strong>PRE-DEPARTURE HAPPY HOUR</strong></span><br />\n<span style="font-family:segoe ui emoji\,sans-serif\;"><span style="font-size:12.0pt\;">&#128197\;</span></span><span style="font-size:12.0pt\;"> April 1\, &nbsp\;5:00 PM at Iron Street Distillery</span><br />\n<span style="font-size:12.0pt\;">Meet your fellow travelers\, review trip details\, and get excited for an unforgettable trip!!</span><br />\n&nbsp\;<br />\n&nbsp\;<br />\n<strong><span style="font-size:12.0pt\;">READY TO GO?</span></strong><br />\n<span style="font-size:12.0pt\;">We can&rsquo\;t wait to share this incredible experience with you in our nation&rsquo\;s capital. If you have any questions or need assistance with travel arrangements\, please contact:</span><br />\n<span style="font-family:segoe ui emoji\,sans-serif\;"><span style="font-size:12.0pt\;">&#128222\;</span></span><span style="font-size:12.0pt\;"> Julie Lunning &ndash\; (320) 249-2765</span><br />\n<span style="font-family:segoe ui emoji\,sans-serif\;"><span style="font-size:12.0pt\;">&#128222\;</span></span><span style="font-size:12.0pt\;"> Steve Gottwalt (Government Affairs Chair) &ndash\; (952) 923-5265</span><br />\n&nbsp\;<br />\n<span style="font-size:12.0pt\;">See you in Washington\, D.C.!</span><br />\n<br />\n<br />\n&nbsp\;
LOCATION:Hotel Washington 515 15th St. NW Washington DC 20004 Room Rate $439 per night +tax. Reserve your room during registration. No need to contact the hotel your room will be reserved through the Chamber when you register. Early Bird Bonus! Register by March 1 and receive a $150 hotel room credit.
UID:e.2754.11406
SEQUENCE:3
DTSTAMP:20260423T053110Z
URL:https://chambermaster.businesscentralmagazine.com/events/details/washington-d-c-fly-in-april-7-10-2025-11406
END:VEVENT

END:VCALENDAR
