BEGIN:VCALENDAR
VERSION:2.0
PRODID:-//ChamberMaster//Event Calendar 2.0//EN
METHOD:PUBLISH
X-PUBLISHED-TTL:P3D
REFRESH-INTERVAL:P3D
CALSCALE:GREGORIAN
BEGIN:VEVENT
DTSTART:20250820T161500Z
DTEND:20250820T180000Z
X-MICROSOFT-CDO-ALLDAYEVENT:FALSE
SUMMARY:Waite Park Chamber Meeting 8/20/25
DESCRIPTION:Co-Hosts: Great River Children's Museum & Minnwest Bank\n\nLocation: Texas Roadhouse\n\n\n\nMeetings of the Waite Park Chamber are held on the third Wednesday of each month. The meetings are sponsored by local businesses and are hosted at the sponsoring business' facility or another location of the hosts choice.\n\n\n\nAll St. Cloud Area Chamber members and their guests are welcome and are encouraged to bring guests who are interested in Waite Park community issues. There is no cost to attend but you must register your attendance. Registration is easy by calling 251-2940\, ext.126\, or emailing registrations@StCloudAreaChamber.com
X-ALT-DESC;FMTTYPE=text/html:<p><strong>Co-Hosts: Great River Children&#39\;s Museum &amp\; Minnwest Bank</strong><br />\n<strong>Location: Texas Roadhouse</strong><br />\n<br />\nMeetings of the Waite Park Chamber are held on the third Wednesday of each month. The meetings are sponsored by local businesses and are hosted at the sponsoring business&rsquo\; facility or another location of the hosts choice.<br />\n<br />\nAll St. Cloud Area Chamber members and their guests are welcome and are encouraged to bring guests who are interested in Waite Park community issues. There is no cost to attend but you must register your attendance. Registration is easy by calling 251-2940\, ext.126\, or emailing&nbsp\;<a href="mailto:registrations@StCloudAreaChamber.com"><font color="#0000ff"><strong>registrations@StCloudAreaChamber.com</strong></font></a></p>\n\n<p>&nbsp\;</p>\n
LOCATION:Texas Roadhouse 345 2nd St. S. Waite Park\, MN 56387-2314
UID:e.2754.11322
SEQUENCE:3
DTSTAMP:20260423T011350Z
URL:https://chambermaster.businesscentralmagazine.com/events/details/waite-park-chamber-meeting-8-20-25-11322
END:VEVENT

END:VCALENDAR
