BEGIN:VCALENDAR
VERSION:2.0
PRODID:-//ChamberMaster//Event Calendar 2.0//EN
METHOD:PUBLISH
X-PUBLISHED-TTL:P3D
REFRESH-INTERVAL:P3D
CALSCALE:GREGORIAN
BEGIN:VEVENT
DTSTART:20260819T161500Z
DTEND:20260819T180000Z
X-MICROSOFT-CDO-ALLDAYEVENT:FALSE
SUMMARY:Waite Park Chamber Meeting 8/19/26
DESCRIPTION:Host:  OPEN - Contact Troy Lenarz to host @ tlenarz@rdradiology.com \n\nLocation: To be determined\n\n\n\nMeetings of the Waite Park Chamber are held on the third Wednesday of each month. The meetings are sponsored by local businesses and are hosted at the sponsoring business' facility or another location of the hosts choice.\n\n\n\nAll St. Cloud Area Chamber members and their guests are welcome and are encouraged to bring guests who are interested in Waite Park community issues. There is no cost to attend but you must register your attendance. Registration is easy by calling 251-2940\, ext.126\, or emailing registrations@StCloudAreaChamber.com
X-ALT-DESC;FMTTYPE=text/html:<p><strong>Host:&nbsp\; OPEN - Contact Troy Lenarz to host @&nbsp\;<a href="mailto:tlenarz@rdradiology.com"><span style="color:#0000FF\;">tlenarz@rdradiology.com</span></a></strong><a href="mailto:tlenarz@rdradiology.com">&nbsp\;</a><br />\n<strong>Location:&nbsp\;To be determined</strong><br />\n<br />\nMeetings of the Waite Park Chamber are held on the third Wednesday of each month. The meetings are sponsored by local businesses and are hosted at the sponsoring business&rsquo\; facility or another location of the hosts choice.<br />\n<br />\nAll St. Cloud Area Chamber members and their guests are welcome and are encouraged to bring guests who are interested in Waite Park community issues. There is no cost to attend but you must register your attendance. Registration is easy by calling 251-2940\, ext.126\, or emailing&nbsp\;<a href="mailto:registrations@StCloudAreaChamber.com"><font color="#0000ff"><strong>registrations@StCloudAreaChamber.com</strong></font></a></p>\n\n<p>&nbsp\;</p>\n
LOCATION:Location to be determined
UID:e.2754.12463
SEQUENCE:3
DTSTAMP:20260422T154535Z
URL:https://chambermaster.businesscentralmagazine.com/events/details/waite-park-chamber-meeting-8-19-26-12463
END:VEVENT

END:VCALENDAR
