BEGIN:VCALENDAR
VERSION:2.0
PRODID:-//ChamberMaster//Event Calendar 2.0//EN
METHOD:PUBLISH
X-PUBLISHED-TTL:P3D
REFRESH-INTERVAL:P3D
CALSCALE:GREGORIAN
BEGIN:VEVENT
DTSTART:20250716T161500Z
DTEND:20250716T180000Z
X-MICROSOFT-CDO-ALLDAYEVENT:FALSE
SUMMARY:Waite Park Chamber Meeting 7/16/25
DESCRIPTION:Hosts: Moxie Creative\n\nLocation: Great River Regional Library\n\n\n\nMeetings of the Waite Park Chamber are held on the third Wednesday of each month. The meetings are sponsored by local businesses and are hosted at the sponsoring business' facility or another location of the hosts choice.\n\n\n\nAll St. Cloud Area Chamber members and their guests are welcome and are encouraged to bring guests who are interested in Waite Park community issues. There is no cost to attend but you must register your attendance. Registration is easy by calling 251-2940\, ext.126\, or emailing registrations@StCloudAreaChamber.com
X-ALT-DESC;FMTTYPE=text/html:<p><strong>Hosts: Moxie Creative</strong><br />\n<strong>Location: Great River Regional Library</strong><br />\n<br />\nMeetings of the Waite Park Chamber are held on the third Wednesday of each month. The meetings are sponsored by local businesses and are hosted at the sponsoring business&rsquo\; facility or another location of the hosts choice.<br />\n<br />\nAll St. Cloud Area Chamber members and their guests are welcome and are encouraged to bring guests who are interested in Waite Park community issues. There is no cost to attend but you must register your attendance. Registration is easy by calling 251-2940\, ext.126\, or emailing&nbsp\;<a href="mailto:registrations@StCloudAreaChamber.com"><font color="#0000ff"><strong>registrations@StCloudAreaChamber.com</strong></font></a></p>\n\n<p>&nbsp\;</p>\n
LOCATION:Great River Regional Library 1300 W St. Germain Street St. Cloud\, MN
UID:e.2754.11321
SEQUENCE:3
DTSTAMP:20260423T011239Z
URL:https://chambermaster.businesscentralmagazine.com/events/details/waite-park-chamber-meeting-7-16-25-11321
END:VEVENT

END:VCALENDAR
