BEGIN:VCALENDAR
VERSION:2.0
PRODID:-//ChamberMaster//Event Calendar 2.0//EN
METHOD:PUBLISH
X-PUBLISHED-TTL:P3D
REFRESH-INTERVAL:P3D
CALSCALE:GREGORIAN
BEGIN:VEVENT
DTSTART:20251119T171500Z
DTEND:20251119T190000Z
X-MICROSOFT-CDO-ALLDAYEVENT:FALSE
SUMMARY:Waite Park Chamber Meeting 11/19/25
DESCRIPTION:Hosts:  Mad Hatter Designs\, LLC & Imprint Apparel\n\nLocation: Great River Regional Library\n\n\n\nMeetings of the Waite Park Chamber are held on the third Wednesday of each month. The meetings are sponsored by local businesses and are hosted at the sponsoring business' facility or another location of the hosts choice.\n\n\n\nAll St. Cloud Area Chamber members and their guests are welcome and are encouraged to bring guests who are interested in Waite Park community issues. There is no cost to attend but you must register your attendance. Registration is easy by calling 251-2940\, ext.126\, or emailing registrations@StCloudAreaChamber.com
X-ALT-DESC;FMTTYPE=text/html:<p><strong>Hosts:&nbsp\; Mad Hatter Designs\, LLC &amp\; Imprint Apparel</strong><br />\n<strong>Location:&nbsp\;Great River Regional Library</strong><br />\n<br />\nMeetings of the Waite Park Chamber are held on the third Wednesday of each month. The meetings are sponsored by local businesses and are hosted at the sponsoring business&rsquo\; facility or another location of the hosts choice.<br />\n<br />\nAll St. Cloud Area Chamber members and their guests are welcome and are encouraged to bring guests who are interested in Waite Park community issues. There is no cost to attend but you must register your attendance. Registration is easy by calling 251-2940\, ext.126\, or emailing&nbsp\;<a href="mailto:registrations@StCloudAreaChamber.com"><font color="#0000ff"><strong>registrations@StCloudAreaChamber.com</strong></font></a></p>\n\n<p>&nbsp\;</p>\n
LOCATION:Great River Regional Library 1300 W. Saint Germain St. Saint Cloud\, MN 56301-3414
UID:e.2754.11392
SEQUENCE:3
DTSTAMP:20260422T202123Z
URL:https://chambermaster.businesscentralmagazine.com/events/details/waite-park-chamber-meeting-11-19-25-11392
END:VEVENT

END:VCALENDAR
