BEGIN:VCALENDAR
VERSION:2.0
PRODID:-//ChamberMaster//Event Calendar 2.0//EN
METHOD:PUBLISH
X-PUBLISHED-TTL:P3D
REFRESH-INTERVAL:P3D
CALSCALE:GREGORIAN
BEGIN:VEVENT
DTSTART;VALUE=DATE:20250102
DTEND;VALUE=DATE:20250821
TRANSP:TRANSPARENT
X-MICROSOFT-CDO-ALLDAYEVENT:TRUE
SUMMARY:Volunteer Tax Counselors Needed
DESCRIPTION:AmeriCorps Seniors RSVP is assisting the AARP Tax Program in recruiting volunteer tax counselors for the upcoming season. Every year people in need are turned away because there aren't enough volunteers. Please consider volunteering or spreading the word!\n\n \n\nVolunteer Tax Counselors Needed\n\nEvery tax season\, AARP Foundation Tax-Aide volunteers serve their communities by helping their neighbors complete and file their tax returns. Tax-Aide volunteers receive training and support\, learn new skills\, and connect with people in our community while helping others.\n\n \n\nVolunteers are needed to prepare taxes at the Whitney Senior Center and Sartell Community Center between January and August. If you are computer literate and have good communication skills\, please consider being part of this important community program. Training happens the second week of January. Volunteers will become certified to prepare taxes before the season starts.\n\n \n\nTo get involved please contact AmeriCorps Seniors RSVP | rsvp.signup@ci.stcloud.mn.us | 320-255-7295
X-ALT-DESC;FMTTYPE=text/html:AmeriCorps Seniors RSVP is assisting the AARP Tax Program in recruiting volunteer tax counselors for the upcoming season. Every year people in need are turned away because there aren&rsquo\;t enough volunteers. Please consider volunteering or spreading the word!<br />\n&nbsp\;<br />\n<strong>Volunteer Tax Counselors Needed</strong><br />\nEvery tax season\, AARP Foundation Tax-Aide volunteers serve their communities by helping their neighbors complete and file their tax returns. Tax-Aide volunteers receive training and support\, learn new skills\, and connect with people in our community while helping others.<br />\n&nbsp\;<br />\nVolunteers are needed to prepare taxes at the Whitney Senior Center and Sartell Community Center between January and August. If you are computer literate and have good communication skills\, please consider being part of this important community program. Training happens the second week of January. Volunteers will become certified to prepare taxes before the season starts.<br />\n&nbsp\;<br />\nTo get involved please contact AmeriCorps Seniors RSVP | <a href="mailto:rsvp.signup@ci.stcloud.mn.us">rsvp.signup@ci.stcloud.mn.us</a> | 320-255-7295
LOCATION:Whitney Senior Center 1527 Northway Drive St Cloud Sartell Community Center 850 19th St S Sartell
UID:e.2754.11247
SEQUENCE:3
DTSTAMP:20260422T235618Z
URL:https://chambermaster.businesscentralmagazine.com/events/details/volunteer-tax-counselors-needed-11247
END:VEVENT

END:VCALENDAR
