BEGIN:VCALENDAR
VERSION:2.0
PRODID:-//ChamberMaster//Event Calendar 2.0//EN
METHOD:PUBLISH
X-PUBLISHED-TTL:P3D
REFRESH-INTERVAL:P3D
CALSCALE:GREGORIAN
BEGIN:VEVENT
DTSTART:20250424T160000Z
DTEND:20250424T180000Z
X-MICROSOFT-CDO-ALLDAYEVENT:FALSE
SUMMARY:Torch Award for Ethics
DESCRIPTION:Join us for our signature event of the year! The BBB Torch Awards for Ethics is a can't-miss event: this showcase of ethics in action shows how our community's top business leaders and future leaders alike are striving for excellence. \n\nThe prestigious BBB Torch Awards for Ethics recognizes marketplace role models who demonstrate an outstanding commitment to ethics and integrity in all they do.\n\nEvery year\, BBB opens an online application for businesses of all sizes in Minnesota and North Dakota to apply for the coveted award. Finalists are selected and recognized at our highly-anticipated Torch Awards for Ethics celebration\, which is a one-of-a-kind event in the region honoring ethics. Winners are announced live at the event\, where we also spotlight our Students of Integrity Scholarship recipients.\n\nThe BBB Torch Awards for Ethics embodies BBB's mission of advancing business trust and honors organizations whose leaders demonstrate ethics in action   through their Character\, Culture\, Customers\, and Community.
X-ALT-DESC;FMTTYPE=text/html:<p>Join us for our signature event of the year! The BBB Torch Awards for Ethics is a can&#39\;t-miss event: this showcase of ethics in action shows how our community&#39\;s top business leaders and future leaders alike are striving for excellence.&nbsp\;</p>\n\n<p>The prestigious BBB Torch Awards for Ethics recognizes marketplace role models who demonstrate an outstanding commitment to ethics and integrity in all they do.</p>\n\n<p>Every year\, BBB opens an&nbsp\;<a href="https://www.bbb.org/local/0704/bbb-foundation/torch/application_questions" style="color: var(--bds-color-blue-dark)\; box-sizing: border-box\;" target="_blank"><strong>online application</strong></a>&nbsp\;for businesses of all sizes in Minnesota and North Dakota to apply for the coveted award.&nbsp\;Finalists are selected and recognized at our highly-anticipated Torch Awards for Ethics celebration\, which is a one-of-a-kind event in the region honoring ethics. Winners are announced live at the event\, where we also spotlight our&nbsp\;<strong><a href="https://www.bbb.org/local/0704/bbb-foundation/scholarship" style="color: var(--bds-color-blue-dark)\; box-sizing: border-box\;">Students of Integrity Scholarship</a></strong>&nbsp\;recipients.</p>\n\n<p>The BBB Torch Awards for Ethics embodies BBB&rsquo\;s mission of advancing business trust and honors&nbsp\;organizations whose leaders demonstrate ethics in action &ndash\; through their Character\, Culture\, Customers\, and Community.</p>\n
LOCATION:The Club at the Golden Valley 7001 Golden Valley Rd\, Golden Valley\, MN 55427
UID:e.2754.11447
SEQUENCE:3
DTSTAMP:20260423T070217Z
URL:https://chambermaster.businesscentralmagazine.com/events/details/torch-award-for-ethics-04-24-2025-11447
END:VEVENT

END:VCALENDAR
