BEGIN:VCALENDAR
VERSION:2.0
PRODID:-//ChamberMaster//Event Calendar 2.0//EN
METHOD:PUBLISH
X-PUBLISHED-TTL:P3D
REFRESH-INTERVAL:P3D
CALSCALE:GREGORIAN
BEGIN:VEVENT
DTSTART;VALUE=DATE:19981006
DTEND;VALUE=DATE:19981007
TRANSP:TRANSPARENT
X-MICROSOFT-CDO-ALLDAYEVENT:TRUE
SUMMARY:Tight Labor Market Strategies - Orientat
DESCRIPTION:
X-ALT-DESC;FMTTYPE=text/html:
LOCATION:
UID:e.2754.636
SEQUENCE:3
DTSTAMP:20260419T201850Z
URL:https://chambermaster.businesscentralmagazine.com/events/details/tight-labor-market-strategies-orientat-10-06-1998-636
END:VEVENT

END:VCALENDAR
