BEGIN:VCALENDAR
VERSION:2.0
PRODID:-//ChamberMaster//Event Calendar 2.0//EN
METHOD:PUBLISH
X-PUBLISHED-TTL:P3D
REFRESH-INTERVAL:P3D
CALSCALE:GREGORIAN
BEGIN:VEVENT
DTSTART:19981006T050000Z
DTEND:19981006T050000Z
X-MICROSOFT-CDO-ALLDAYEVENT:FALSE
SUMMARY:Tight Labor Market Strategies - Employee Satisfaction
DESCRIPTION:Tight Labor Market Strategies - Employee Satisfaction
X-ALT-DESC;FMTTYPE=text/html:Tight Labor Market Strategies - Employee Satisfaction
LOCATION:
UID:e.2754.2323
SEQUENCE:3
DTSTAMP:20260419T201922Z
URL:https://chambermaster.businesscentralmagazine.com/events/details/tight-labor-market-strategies-employee-satisfaction-10-06-1998-2323
END:VEVENT

END:VCALENDAR
