BEGIN:VCALENDAR
VERSION:2.0
PRODID:-//ChamberMaster//Event Calendar 2.0//EN
METHOD:PUBLISH
X-PUBLISHED-TTL:P3D
REFRESH-INTERVAL:P3D
CALSCALE:GREGORIAN
BEGIN:VEVENT
DTSTART:20230802T160000Z
DTEND:20230802T180000Z
X-MICROSOFT-CDO-ALLDAYEVENT:FALSE
SUMMARY:This One Life
DESCRIPTION:This One Life\n\nWe've all been given this one life. We have big dreams and plans. Then\, in a moment it all can change with a loss or hardship. How do you overcome and move forward? Join author and speaker Deb Hadley as she shares her personal experience overcoming loss\, finding hope and using the hardest moments to make a difference. \n\n\n\nAbout Deb Hadley\n\nDeb Hadley's life changed first when she became a mom   and then when her daughter\, Kaylie\, died suddenly and nine months later\, her son\, Tyler\, was killed in a car accident. Each alone was a crushing blow to her   and the people around her. It was dark. But she turned her personal pain and suffering into a message of hope and opportunity to impact others.\n\n\n\nREGISTER NOW
X-ALT-DESC;FMTTYPE=text/html:<strong>This One Life</strong><br />\nWe&rsquo\;ve all been given this one life. We have big dreams and plans. Then\, in a moment it all can change with a loss or hardship. How do you overcome and move forward? Join author and speaker Deb Hadley as she shares her personal experience overcoming loss\, finding hope and using the hardest moments to make a difference.&nbsp\;<br />\n<br />\n<strong>About Deb Hadley</strong><br />\nDeb Hadley&rsquo\;s life changed first when she became a mom &mdash\; and then when her daughter\, Kaylie\, died suddenly and nine months later\, her son\, Tyler\, was killed in a car accident. Each alone was a crushing blow to her &ndash\; and the people around her. It was dark. But she turned her personal pain and suffering into a message of hope and opportunity to impact others.<br />\n<br />\n<span style="font-size:20px\;"><a href="https://celebratemn.org/this-one-life-with-deb-hadley/"><strong>REGISTER NOW</strong></a></span>
LOCATION:The Park Event Center 500 Division St.\, Waite Park\, MN 56387
UID:e.2754.10466
SEQUENCE:3
DTSTAMP:20260424T125309Z
URL:https://chambermaster.businesscentralmagazine.com/events/details/this-one-life-10466
END:VEVENT

END:VCALENDAR
