BEGIN:VCALENDAR
VERSION:2.0
PRODID:-//ChamberMaster//Event Calendar 2.0//EN
METHOD:PUBLISH
X-PUBLISHED-TTL:P3D
REFRESH-INTERVAL:P3D
CALSCALE:GREGORIAN
BEGIN:VEVENT
DTSTART:20251007T213000Z
DTEND:20251008T003000Z
X-MICROSOFT-CDO-ALLDAYEVENT:FALSE
SUMMARY:The Annual Chamber Celebration 10-7-2025
DESCRIPTION:Celebrating Greatness.\n\n\n\nJoin us for one of the most anticipated evenings of the year   the Annual Chamber Celebration\, the official annual meeting of the St. Cloud Area Chamber of Commerce. Held each fall\, this event is more than just a meeting   it's a celebration of our business community's achievements and the leaders who made them happen.\n\nEnjoy a delicious sit-down dinner\, connect with fellow professionals\, and raise a glass at the cash bar as we reflect on the past year. We'll honor the incredible volunteer leaders who drive our mission forward   including outgoing Board members and committee and division chairs.\n\nWhether you're a small business owner\, a corporate leader\, or an emerging professional\, this is your chance to celebrate success\, build relationships\, and be part of something bigger. Don't miss it!
X-ALT-DESC;FMTTYPE=text/html:<h3 class="wp-block-heading" style="box-sizing: border-box\; margin-block: 0.5rem 1rem\; font-family: Montserrat\, sans-serif\; font-weight: 900\; color: rgb(3\, 65\, 84)\; font-size: 26px\; margin: 30px 0px 10px\;">Celebrating Greatness.</h3>\n\n<div class="wp-block-columns is-layout-flex wp-container-core-columns-is-layout-1 wp-block-columns-is-layout-flex" style="margin-bottom: 1.75em\; gap: 2em\; box-sizing: border-box\; display: flex\; align-items: center\; flex-wrap: nowrap\; justify-content: center\; color: rgb(25\, 25\, 25)\; font-family: -apple-system\, BlinkMacSystemFont\, &quot\;Segoe UI&quot\;\, Roboto\, &quot\;Helvetica Neue&quot\;\, Arial\, &quot\;Noto Sans&quot\;\, sans-serif\, &quot\;Apple Color Emoji&quot\;\, &quot\;Segoe UI Emoji&quot\;\, &quot\;Segoe UI Symbol&quot\;\, &quot\;Noto Color Emoji&quot\;\; font-size: 18px\;">\n<div class="wp-block-column is-layout-flow wp-block-column-is-layout-flow" style="box-sizing: border-box\; flex-grow: 1\; min-width: 0px\; overflow-wrap: break-word\; word-break: break-word\; margin: 0px\; flex-basis: 0px\;">\n<p style="box-sizing: border-box\; margin-block: 0px 0.9rem\;">Join us for one of the most anticipated evenings of the year &mdash\; the&nbsp\;<span style="box-sizing: border-box\; font-weight: bolder\;">Annual Chamber Celebration</span>\, the official annual meeting of the St. Cloud Area Chamber of Commerce. Held each fall\, this event is more than just a meeting &mdash\; it&rsquo\;s a celebration of our business community&rsquo\;s achievements and the leaders who made them happen.</p>\n\n<p style="box-sizing: border-box\; margin-block: 0px 0.9rem\;">Enjoy a delicious sit-down dinner\, connect with fellow professionals\, and raise a glass at the cash bar as we reflect on the past year. We&rsquo\;ll honor the incredible volunteer leaders who drive our mission forward &mdash\; including outgoing Board members and committee and division chairs.</p>\n\n<p style="box-sizing: border-box\; margin-block: 0px 0.9rem\;">Whether you&rsquo\;re a small business owner\, a corporate leader\, or an emerging professional\, this is your chance to celebrate success\, build relationships\, and be part of something bigger.&nbsp\;<span style="box-sizing: border-box\; font-weight: bolder\;">Don&rsquo\;t miss it!</span></p>\n</div>\n</div>\n
LOCATION:The Park Event Center 500 Division St Waite Park\, MN
UID:e.2754.12214
SEQUENCE:3
DTSTAMP:20260422T215518Z
URL:https://chambermaster.businesscentralmagazine.com/events/details/the-annual-chamber-celebration-10-7-2025-12214
END:VEVENT

END:VCALENDAR
