BEGIN:VCALENDAR
VERSION:2.0
PRODID:-//ChamberMaster//Event Calendar 2.0//EN
METHOD:PUBLISH
X-PUBLISHED-TTL:P3D
REFRESH-INTERVAL:P3D
CALSCALE:GREGORIAN
BEGIN:VEVENT
DTSTART:19980615T050000Z
DTEND:19980815T050000Z
X-MICROSOFT-CDO-ALLDAYEVENT:FALSE
SUMMARY:Teachers in Business Host - Summer 1998
DESCRIPTION:Teachers in Business Host - Summer 1998
X-ALT-DESC;FMTTYPE=text/html:Teachers in Business Host - Summer 1998
LOCATION:
UID:e.2754.2289
SEQUENCE:3
DTSTAMP:20260419T232155Z
URL:https://chambermaster.businesscentralmagazine.com/events/details/teachers-in-business-host-summer-1998-06-15-1998-2289
END:VEVENT

END:VCALENDAR
