BEGIN:VCALENDAR
VERSION:2.0
PRODID:-//ChamberMaster//Event Calendar 2.0//EN
METHOD:PUBLISH
X-PUBLISHED-TTL:P3D
REFRESH-INTERVAL:P3D
CALSCALE:GREGORIAN
BEGIN:VEVENT
DTSTART;VALUE=DATE:20251107
DTEND;VALUE=DATE:20251108
TRANSP:TRANSPARENT
X-MICROSOFT-CDO-ALLDAYEVENT:TRUE
SUMMARY:Supervisor Development Certificate Program 2026
DESCRIPTION:SOLD OUT! Registration is now closed for 2026\n\n\n\nThis program is designed for the new supervisor\, one who has received limited supervisor training\, or one who needs to strengthen his or her leadership skills.  Effective supervisors must possess many different qualities such as flexibility\, adaptability\, strong leadership skills\, and commitment to goals.  Supervisors are often seen as teachers\, counselors and mentors. \n\n\n\nThrough the Supervisor Development Program at the St. Cloud Area Chamber\, we offer you six courses in distinct areas that will give you the necessary tools to become a more effective supervisor.  In order to receive the Supervisor Development certificate\, you are required to attend at least five of the six courses offered.\n\n\n\nCourses -\n\nSession I: Hiring for Retention\, Speaker: Jill Magelssen\, Express Employment Professionals - Tuesday\, January 27\, 8-11:00 a.m.\n\nSession II: Helping Employees Achieve Peak Performance\, Speaker: Julie Lunning\, St. Cloud Area Chamber of Commerce - Thursday\, February 26\, 8:00-11:00 a.m.\n\nSession III: Employment Law: Keeping You and Your Employer Out of Trouble\, Speaker: Chad Staul\, Quinlivan & Hughes - Thursday\, March 5\, 8:00-11:00 a.m.\n\nSession IV: Conflict and Communication: Communication Tools for Leaders or Employees\, Speaker: Jodi Maus\, Magnifi Financial - Tuesday\, March 17\, 8:00 a.m. to Noon.\n\nSession V: Supervising Others - A Team Approach\, Speaker: Jen Sell Matzke\, Scipi Companies - Tuesday\, March 24\, 8:00-11:30 a.m.\n\nSession VI: Interpersonal Communication Skills for Managers\, Speaker: Tara Gronhovd\, Align Strategy\, LLC - Thursday\, April 23\, 8:00 a.m.-Noon\n\n\n\nWith questions\, contact Laura Wagner at LWagner@StCloudAreaChamber.com or \n\n320-656-3831. Please also provide the attendee's email address and direct phone number\, so they can be contacted directly with any class-related information.
X-ALT-DESC;FMTTYPE=text/html:<div style="FONT-FAMILY: Arial">\n<p class="MsoNormal" style="MARGIN: 0pt"><br />\nSOLD OUT! Registration is now closed for 2026<br />\n<br />\n<span style="color:#000000\;">This program is designed for the new supervisor\, one who has received limited supervisor training\, or one who needs to strengthen his or her leadership skills.&nbsp\;&nbsp\;Effective supervisors must possess many different qualities such as flexibility\, adaptability\, strong leadership skills\, and commitment to goals.&nbsp\; Supervisors are often seen as teachers\, counselors and mentors.&nbsp\;<br />\n<br />\nThrough the Supervisor Development Program at the St. Cloud Area Chamber\, we offer you six&nbsp\;courses in&nbsp\;distinct areas that will give you the necessary tools to become a more effective supervisor.&nbsp\; In order to receive the Supervisor Development certificate\, you are required to attend at least five&nbsp\;of the six&nbsp\;courses offered.</span><br />\n<br />\n<strong><em><span style="color:black\;"><span style="font-family:arial\,sans-serif\;"><span style="font-size:9.0pt\;">Courses -</span></span></span></em></strong><br />\n<strong><u><span style="color:black\;"><span style="font-family:arial\,sans-serif\;"><span style="font-size:9.0pt\;">Session I</span></span></span></u></strong><strong><span style="color:black\;"><span style="font-family:arial\,sans-serif\;"><span style="font-size:9.0pt\;">:</span></span></span></strong><span style="color:black\;"><span style="font-family:arial\,sans-serif\;"><span style="font-size:9.0pt\;">&nbsp\;</span></span></span><span style="color: rgb(0\, 0\, 0)\; font-family: arial\, sans-serif\; font-size: 12px\;">Hiring for Retention\,&nbsp\;</span><strong style="color: rgb(0\, 0\, 0)\; font-family: arial\, sans-serif\; font-size: 12px\;"><u>Speaker:</u></strong><span style="color: rgb(0\, 0\, 0)\; font-family: arial\, sans-serif\; font-size: 12px\;">&nbsp\;Jill Magelssen\, Express Employment Professionals&nbsp\;-&nbsp\;</span><strong style="color: rgb(0\, 0\, 0)\; font-family: arial\, sans-serif\; font-size: 12px\;">Tuesday\, January 27\, 8-11:00&nbsp\;a.m.</strong><br />\n<strong><u><span style="color:black\;"><span style="font-family:arial\,sans-serif\;"><span style="font-size:9.0pt\;">Session II</span></span></span></u><span style="color:black\;"><span style="font-family:arial\,sans-serif\;"><span style="font-size:9.0pt\;">:&nbsp\;</span></span></span></strong><span style="color: rgb(0\, 0\, 0)\; font-family: arial\, sans-serif\; font-size: 12px\;">Helping Employees Achieve Peak Performance</span><span style="color: rgb(0\, 0\, 0)\; font-family: arial\, sans-serif\; font-size: 12px\;">\,&nbsp\;</span><strong style="color: rgb(0\, 0\, 0)\; font-family: arial\, sans-serif\; font-size: 12px\;"><u>Speaker:&nbsp\;</u></strong><span style="color: rgb(0\, 0\, 0)\; font-family: arial\, sans-serif\; font-size: 12px\;">Julie Lunning\, St. Cloud Area Chamber of Commerce -&nbsp\;</span><strong style="color: rgb(0\, 0\, 0)\; font-family: arial\, sans-serif\; font-size: 12px\;">Thursday\, February 26\, 8:00-11:00 a.m.</strong><br />\n<strong style="font-family: Arial\;"><u><span style="background-image: initial\; background-position: initial\; background-size: initial\; background-repeat: initial\; background-attachment: initial\; background-origin: initial\; background-clip: initial\;"><span style="color: black\;"><span style="font-family: arial\, sans-serif\;"><span style="font-size: 10pt\;">Session III</span></span></span></span></u></strong><strong style="font-family: Arial\;"><span style="background-image: initial\; background-position: initial\; background-size: initial\; background-repeat: initial\; background-attachment: initial\; background-origin: initial\; background-clip: initial\;"><span style="color: black\;"><span style="font-family: arial\, sans-serif\;"><span style="font-size: 9pt\;">:</span></span></span></span></strong><span style="font-family: Arial\; background-image: initial\; background-position: initial\; background-size: initial\; background-repeat: initial\; background-attachment: initial\; background-origin: initial\; background-clip: initial\;"><span style="color: black\;"><span style="font-family: arial\, sans-serif\;"><span style="font-size: 9pt\;">&nbsp\;</span></span></span></span><span style="color: rgb(0\, 0\, 0)\; font-family: arial\, sans-serif\; font-size: 12px\;">Employment Law: Keeping You and Your Employer Out of Trouble\,&nbsp\;</span><strong style="color: rgb(0\, 0\, 0)\; font-family: arial\, sans-serif\; font-size: 12px\;"><u>Speaker:</u></strong><span style="color: rgb(0\, 0\, 0)\; font-family: arial\, sans-serif\; font-size: 12px\;">&nbsp\;Chad Staul\,&nbsp\;Quinlivan &amp\; Hughes&nbsp\;-&nbsp\;<strong>Thursday</strong></span><strong style="color: rgb(0\, 0\, 0)\; font-family: arial\, sans-serif\; font-size: 12px\;"><strong>\,&nbsp\;</strong>March 5\, 8:00-11:00 a.m.</strong><br />\n<span style="color:black\;"><span style="font-family:arial\,sans-serif\;"><span style="font-size:9.0pt\;"><u style="font-weight: bold\;">Session IV:</u>&nbsp\;</span></span></span><span style="color: rgb(0\, 0\, 0)\; font-family: arial\, sans-serif\; font-size: 12px\;">Conflict and Communication: Communication Tools for Leaders or Employees\,&nbsp\;</span><strong style="color: rgb(0\, 0\, 0)\; font-family: arial\, sans-serif\; font-size: 12px\;"><u>Speaker:</u></strong><span style="color: rgb(0\, 0\, 0)\; font-family: arial\, sans-serif\; font-size: 12px\;">&nbsp\;Jodi Maus\, Magnifi Financial&nbsp\;-&nbsp\;</span><strong style="color: rgb(0\, 0\, 0)\; font-family: arial\, sans-serif\; font-size: 12px\;">Tuesday\, March 17\,&nbsp\;8:00 a.m. to Noon.</strong><br />\n<strong><u><span style="color:black\;"><span style="font-family:arial\,sans-serif\;"><span style="font-size:9.0pt\;">Session V</span></span></span></u></strong><strong><span style="color:black\;"><span style="font-family:arial\,sans-serif\;"><span style="font-size:9.0pt\;">:</span></span></span></strong><span style="font-family:arial\,sans-serif\;"><span style="font-size:9.0pt\;">&nbsp\;</span></span><span style="font-family: Arial\;"><span style="font-family: arial\, sans-serif\;"><span style="font-size: 9pt\;">Supervising Others - A Team Approach\, <u><strong>Speaker:</strong></u> Jen Sell Matzke\, Scipi Companies</span></span></span><span style="font-family: arial\, sans-serif\; font-size: 12px\;">&nbsp\;- <strong>Tues</strong></span><strong style="color: rgb(0\, 0\, 0)\; font-family: arial\, sans-serif\; font-size: 12px\;">day\, March 24\, 8:00-11:30 a.m.</strong><br />\n<span style="color:black\;"><span style="font-family:arial\,sans-serif\;"><span style="font-size:9.0pt\;"><strong><u>Session VI</u>:</strong>&nbsp\;</span></span></span><span style="color: rgb(0\, 0\, 0)\; font-family: arial\, sans-serif\; font-size: 12px\;">Interpersonal Communication Skills for Managers\,&nbsp\;</span><strong style="color: rgb(0\, 0\, 0)\; font-family: arial\, sans-serif\; font-size: 12px\;"><u>Speaker:&nbsp\;</u></strong><span style="color: rgb(0\, 0\, 0)\; font-family: arial\, sans-serif\; font-size: 12px\;">Tara Gronhovd\, Align Strategy\, LLC&nbsp\;-&nbsp\;</span><strong style="color: rgb(0\, 0\, 0)\; font-family: arial\, sans-serif\; font-size: 12px\;">Thursday\, April 23\, 8:00 a.m.-Noon</strong><br />\n<br />\n<span style="color:black\;"><span style="font-family:arial\,sans-serif\;"><span style="font-size:9.0pt\;"><strong>With questions\,&nbsp\;contact Laura Wagner&nbsp\;at <a href="mailto:lwagner@stcloudareachamber.com">LWagner@StCloudAreaChamber.com</a>&nbsp\;or&nbsp\;<br />\n320-656-3831</strong>. Please also provide&nbsp\;the attendee&#39\;s email address and direct phone number\, so they can be contacted directly with any class-related information.</span></span></span></p>\n</div>\n
LOCATION:
UID:e.2754.12411
SEQUENCE:3
DTSTAMP:20260422T204502Z
URL:https://chambermaster.businesscentralmagazine.com/events/details/supervisor-development-certificate-program-2026-12411
END:VEVENT

END:VCALENDAR
