BEGIN:VCALENDAR
VERSION:2.0
PRODID:-//ChamberMaster//Event Calendar 2.0//EN
METHOD:PUBLISH
X-PUBLISHED-TTL:P3D
REFRESH-INTERVAL:P3D
CALSCALE:GREGORIAN
BEGIN:VEVENT
DTSTART:20250626T150000Z
DTEND:20250626T230000Z
X-MICROSOFT-CDO-ALLDAYEVENT:FALSE
SUMMARY:Summer Sidewalk Sale
DESCRIPTION:Summer Book Sale!\n\nBooks and more. Hardcover Books $2.00 and\n\nPaperback books $1.00\, 50  or 25  carts.\n\nFriday special pricing per bag or box.\n\nSale held inside the Library\, if raining!
X-ALT-DESC;FMTTYPE=text/html:Summer Book Sale!<br />\nBooks and more. Hardcover Books $2.00 and<br />\nPaperback books $1.00\, 50&cent\; or 25&cent\; carts.<br />\nFriday special pricing per bag or box.<br />\nSale held inside the Library\, if raining!
LOCATION:St. Cloud Library
UID:e.2754.12286
SEQUENCE:3
DTSTAMP:20260423T024554Z
URL:https://chambermaster.businesscentralmagazine.com/events/details/summer-sidewalk-sale-12286
END:VEVENT

END:VCALENDAR
