BEGIN:VCALENDAR
VERSION:2.0
PRODID:-//ChamberMaster//Event Calendar 2.0//EN
METHOD:PUBLISH
X-PUBLISHED-TTL:P3D
REFRESH-INTERVAL:P3D
CALSCALE:GREGORIAN
BEGIN:VEVENT
DTSTART:20250620T160000Z
DTEND:20250620T180000Z
X-MICROSOFT-CDO-ALLDAYEVENT:FALSE
SUMMARY:Summer Kickoff Open House
DESCRIPTION:Experience Life at Sterling Park!\n\nCome join us as we kick off summer with an open house at Sterling Park! Discover the Sterling Park difference while enjoying brats for lunch and outdoor games with friends!\n\n\n\nRSVP to Natalie by June 13th\n\n\n\nContact Natalie Rudy at (320) 250.2155 or email at Natalie.Rudy@accura.healthcare
X-ALT-DESC;FMTTYPE=text/html:Experience Life at Sterling Park!<br />\nCome join us as we kick off summer with an open house at Sterling Park! Discover the Sterling Park difference while enjoying brats for lunch and outdoor games with friends!<br />\n<br />\nRSVP to Natalie by June 13th<br />\n<br />\nContact Natalie Rudy at (320) 250.2155 or email at Natalie.Rudy@accura.healthcare<br />\n<br />\n&nbsp\;
LOCATION:35 1st Ave N\, Waite Park\, MN 56387
UID:e.2754.11560
SEQUENCE:3
DTSTAMP:20260423T034729Z
URL:https://chambermaster.businesscentralmagazine.com/events/details/summer-kickoff-open-house-11560
END:VEVENT

END:VCALENDAR
