BEGIN:VCALENDAR
VERSION:2.0
PRODID:-//ChamberMaster//Event Calendar 2.0//EN
METHOD:PUBLISH
X-PUBLISHED-TTL:P3D
REFRESH-INTERVAL:P3D
CALSCALE:GREGORIAN
BEGIN:VEVENT
DTSTART:20250802T160000Z
DTEND:20250802T180000Z
X-MICROSOFT-CDO-ALLDAYEVENT:FALSE
SUMMARY:Sterling Park SummerFest
DESCRIPTION:Join us for our annual community event\, Sterling Park SummerFest!\n\n\n\nEnjoy live music from Max & Deb\, food & refreshments\, Pantowners antique car show\, bouncy house from Granite City Jump\, face painting\, raffle\, 50/50. Cool off with some ice cream from The Wandering Cow Ice Cream and Shaved Ice truck!\n\n\n\nProceeds go towards the Alzheimer's Association.\n\n\n\nThank you to our Business Partners:\n\nBernicks\n\nThe Wandering Cow Ice Cream and Shaved Ice\n\nGranite City Jump\n\nPantowners- St. Cloud Antique Auto Club\n\nComplete Coverage\n\nMCI Carpet One\n\nClean Cut Lawn & Landscaping\n\nMax & Deb\n\nHealthcare Services Group\n\nMoments Hospice\n\nBluestone Therapy\n\nWild Bird Corner\n\nUnique Nails\n\nEast Side Glass\n\nScheels\n\nApplebee's \n\nOlive Garden\n\nLaCasita\n\nXalon Salon\n\nTexas Roadhouse\n\nArise Cares\n\nFantastic Sams\n\nCrooked Pint
X-ALT-DESC;FMTTYPE=text/html:Join us for our annual community event\, Sterling Park SummerFest!<br />\n<br />\nEnjoy live music from Max &amp\; Deb\, food &amp\; refreshments\, Pantowners antique car show\, bouncy house from Granite City Jump\, face painting\, raffle\, 50/50. Cool off with some ice cream from The Wandering Cow Ice Cream and Shaved Ice truck!<br />\n<br />\nProceeds go towards the Alzheimer&#39\;s Association.<br />\n<br />\nThank you to our Business Partners:<br />\nBernicks<br />\nThe Wandering Cow Ice Cream and Shaved Ice<br />\nGranite City Jump<br />\nPantowners- St. Cloud Antique Auto Club<br />\nComplete Coverage<br />\nMCI Carpet One<br />\nClean Cut Lawn &amp\; Landscaping<br />\nMax &amp\; Deb<br />\nHealthcare Services Group<br />\nMoments Hospice<br />\nBluestone Therapy<br />\nWild Bird Corner<br />\nUnique Nails<br />\nEast Side Glass<br />\nScheels<br />\nApplebee&#39\;s&nbsp\;<br />\nOlive Garden<br />\nLaCasita<br />\nXalon Salon<br />\nTexas Roadhouse<br />\nArise Cares<br />\nFantastic Sams<br />\nCrooked Pint<br />\n<br />\n<br />\n&nbsp\;
LOCATION:Sterling Park Senior Living 142 1 Street N Waite Park\, MN 56387
UID:e.2754.12311
SEQUENCE:3
DTSTAMP:20260422T234658Z
URL:https://chambermaster.businesscentralmagazine.com/events/details/sterling-park-summerfest-12311
END:VEVENT

END:VCALENDAR
