BEGIN:VCALENDAR
VERSION:2.0
PRODID:-//ChamberMaster//Event Calendar 2.0//EN
METHOD:PUBLISH
X-PUBLISHED-TTL:P3D
REFRESH-INTERVAL:P3D
CALSCALE:GREGORIAN
BEGIN:VEVENT
DTSTART;VALUE=DATE:20241205
DTEND;VALUE=DATE:20241222
TRANSP:TRANSPARENT
X-MICROSOFT-CDO-ALLDAYEVENT:TRUE
SUMMARY:Stearns History Museum Escape Room
DESCRIPTION:The Stearns History Museum opens its third annual escape room\, this year themed\n\nafter the George Orwell classic\, 1984. Big Brother is watching. The past has been erased and the future is\n\nlooking bleak. It is up to you to find enough historic relics to make yourself remember. Otherwise\, you will\n\nbe trapped\, and under surveillance\, forever.\n\n\n\nA built environment experience at the museum\, the Escape Room changes themes annually. Designed for\n\ngroups of 6 or less\, each time slot allows a 45-minute window to make your escape. Held the first three\n\nweeks of December\, a reservation is required and can be made online at\n\nhttps://stearnshistorymuseum.wildapricot.org/. Cost is $20 for members\, $25 for non-members.\n\n\n\nThe Escape Room opens this Thursday December 5 and runs through Saturday December 21. It is a great\n\nholiday activity for families\, friends\, and colleagues. Make a night (or day) of it\, have some fun\, and support\n\nlocal history while you celebrate the season! Don't miss your chance to save history and defeat Big Brother.\n\nThe world needs you!\n\n\n\nRegistration is limited so reserve your spot today.\n\n\n\nQuestions? Caitlin can be reached at ccarlson@stearns-museum.org or 320-253-8424.
X-ALT-DESC;FMTTYPE=text/html:<br />\nThe Stearns History Museum opens its third annual escape room\, this year themed<br />\nafter the George Orwell classic\, 1984. Big Brother is watching. The past has been erased and the future is<br />\nlooking bleak. It is up to you to find enough historic relics to make yourself remember. Otherwise\, you will<br />\nbe trapped\, and under surveillance\, forever.<br />\n<br />\nA built environment experience at the museum\, the Escape Room changes themes annually. Designed for<br />\ngroups of 6 or less\, each time slot allows a 45-minute window to make your escape. Held the first three<br />\nweeks of December\, a reservation is required and can be made online at<br />\nhttps://stearnshistorymuseum.wildapricot.org/. Cost is $20 for members\, $25 for non-members.<br />\n<br />\nThe Escape Room opens this Thursday December 5 and runs through Saturday December 21. It is a great<br />\nholiday activity for families\, friends\, and colleagues. Make a night (or day) of it\, have some fun\, and support<br />\nlocal history while you celebrate the season! Don&rsquo\;t miss your chance to save history and defeat Big Brother.<br />\nThe world needs you!<br />\n<br />\nRegistration is limited so reserve your spot today.<br />\n<br />\nQuestions? Caitlin can be reached at ccarlson@stearns-museum.org or 320-253-8424.
LOCATION:Stearns History Museum 235 33rd Avenue South St. Cloud\, MN 56301
UID:e.2754.11306
SEQUENCE:3
DTSTAMP:20260423T121406Z
URL:https://chambermaster.businesscentralmagazine.com/events/details/stearns-history-museum-escape-room-11306
END:VEVENT

END:VCALENDAR
