BEGIN:VCALENDAR
VERSION:2.0
PRODID:-//ChamberMaster//Event Calendar 2.0//EN
METHOD:PUBLISH
X-PUBLISHED-TTL:P3D
REFRESH-INTERVAL:P3D
CALSCALE:GREGORIAN
BEGIN:VEVENT
DTSTART;VALUE=DATE:20250315
DTEND;VALUE=DATE:20250321
TRANSP:TRANSPARENT
X-MICROSOFT-CDO-ALLDAYEVENT:TRUE
SUMMARY:Stearns History Museum Bookfair!
DESCRIPTION:Support History While You Shop!\n\n \n\n\n\nJoin us Saturday\, March 15th\, from 10 AM to 7 PM at Barnes & Noble in St. Cloud for a special Bookfair benefiting the Stearns History Museum! And you can get more than just books- Barnes & Noble has amazing treats\, toys\, games\, movies\, music and more!\n\n\n\n\n\nSimply shop in-store and mention "I'm here to support Stearns Museum" at checkout!\n\n\n\n\n\nCan't make it to St. Cloud? Shop online and provide our Bookfair ID (12850970) to link your purchase to the fundraiser.\n\n\n\n\n\nEvery purchase using our Bookfair ID counts for 5 days starting March 15 through March 20!\n\n\n\n\n\nYour love for books can help preserve history! Mark your calendars\, spread the word\, and let's make this event a success!
X-ALT-DESC;FMTTYPE=text/html:<div>\n<div>Support History While You Shop!<br />\n&nbsp\;</div>\n</div>\n\n<div>\n<div>Join us Saturday\, March 15th\, from 10 AM to 7 PM at Barnes &amp\; Noble in St. Cloud for a special Bookfair benefiting the Stearns History Museum! And you can get more than just books- Barnes &amp\; Noble has amazing treats\, toys\, games\, movies\, music and more!</div>\n</div>\n\n<div>\n<div><br />\nSimply shop in-store and mention &quot\;I&rsquo\;m here to support Stearns Museum&quot\; at checkout!</div>\n</div>\n\n<div>\n<div><br />\nCan&rsquo\;t make it to St. Cloud? Shop online and provide our Bookfair ID (<span style="color:rgb(8\, 8\, 9)\; font-family:segoe ui historic\,segoe ui\,helvetica\,arial\,sans-serif\; font-size:15px">12850970</span>) to link your purchase to the fundraiser.</div>\n</div>\n\n<div>\n<div><br />\nEvery purchase using our Bookfair ID counts for 5 days starting March 15 through March 20!</div>\n</div>\n\n<div>\n<div><br />\nYour love for books can help preserve history! Mark your calendars\, spread the word\, and let&#39\;s make this event a success!</div>\n</div>\n
LOCATION:Barnes & Noble St. Cloud or online using bookfair ID 12850970
UID:e.2754.11451
SEQUENCE:3
DTSTAMP:20260423T071124Z
URL:https://chambermaster.businesscentralmagazine.com/events/details/stearns-history-museum-bookfair-11451
END:VEVENT

END:VCALENDAR
