BEGIN:VCALENDAR
VERSION:2.0
PRODID:-//ChamberMaster//Event Calendar 2.0//EN
METHOD:PUBLISH
X-PUBLISHED-TTL:P3D
REFRESH-INTERVAL:P3D
CALSCALE:GREGORIAN
BEGIN:VEVENT
DTSTART:20250912T133000Z
DTEND:20250912T170000Z
X-MICROSOFT-CDO-ALLDAYEVENT:FALSE
SUMMARY:St. Cloud Recovery Summit
DESCRIPTION:Join us on Friday\, September 12\, 2025 at the Sauk Rapids Government Center for a powerful morning of collaboration\, connection\, and community dialogue.\n\nThe Recovery Summit is designed to:\n\n? Educate the community about recovery resources\n\n? Build stronger partnerships across sectors\n\n? Gather feedback on successes\, barriers\, and solutions\n\n? Shape the next steps for recovery in our region\n\nEvent Highlights:\n\n\n	\n	Opening remarks & welcome from community leaders\n	\n	\n	A panel discussion: "Breaking Barriers\, Building Solutions"\n	\n	\n	Interactive World Caf  small group discussions to share ideas and strengthen connections\n	\n	\n	Commitments for next steps in building a stronger recovery community\n	\n\n\nWhen & Where:\n\n?? Friday\, September 12\, 2025\n\n?? Refreshments & networking at 8:30 AM | Program 9:00 AM   12:00 PM\n\n?? Sauk Rapids Government Center\, 250 Summit Ave N\n\nThis is more than an event   it's a chance to come together\, share voices\, and build bridges for a healthier\, more connected community.\n\n?? Reserve your spot today for free: tinyurl.com/3uv447jz or email nicole2@rcnstcloud.org
X-ALT-DESC;FMTTYPE=text/html:<p>Join us on <strong>Friday\, September 12\, 2025</strong> at the <strong>Sauk Rapids Government Center</strong> for a powerful morning of collaboration\, connection\, and community dialogue.</p>\n\n<p>The Recovery Summit is designed to:<br />\n? Educate the community about recovery resources<br />\n? Build stronger partnerships across sectors<br />\n? Gather feedback on successes\, barriers\, and solutions<br />\n? Shape the next steps for recovery in our region</p>\n\n<p><strong>Event Highlights:</strong></p>\n\n<ul>\n	<li>\n	<p>Opening remarks &amp\; welcome from community leaders</p>\n	</li>\n	<li>\n	<p>A panel discussion: <em>&ldquo\;Breaking Barriers\, Building Solutions&rdquo\;</em></p>\n	</li>\n	<li>\n	<p>Interactive <em>World Caf&eacute\;</em> small group discussions to share ideas and strengthen connections</p>\n	</li>\n	<li>\n	<p>Commitments for next steps in building a stronger recovery community</p>\n	</li>\n</ul>\n\n<p><strong>When &amp\; Where:</strong><br />\n?? Friday\, September 12\, 2025<br />\n?? Refreshments &amp\; networking at 8:30 AM | Program 9:00 AM &ndash\; 12:00 PM<br />\n?? Sauk Rapids Government Center\, 250 Summit Ave N</p>\n\n<p>This is more than an event &mdash\; it&rsquo\;s a chance to come together\, share voices\, and build bridges for a healthier\, more connected community.</p>\n\n<p>?? Reserve your spot today for free: <a class="decorated-link" href="https://tinyurl.com/3uv447jz" rel="noopener" target="_new">tinyurl.com/3uv447jz</a>&nbsp\;or email nicole2@rcnstcloud.org</p>\n
LOCATION:Sauk Rapids Government Center\, 250 Summit Ave N
UID:e.2754.12352
SEQUENCE:3
DTSTAMP:20260422T221613Z
URL:https://chambermaster.businesscentralmagazine.com/events/details/st-cloud-recovery-summit-12352
END:VEVENT

END:VCALENDAR
