BEGIN:VCALENDAR
VERSION:2.0
PRODID:-//ChamberMaster//Event Calendar 2.0//EN
METHOD:PUBLISH
X-PUBLISHED-TTL:P3D
REFRESH-INTERVAL:P3D
CALSCALE:GREGORIAN
BEGIN:VEVENT
DTSTART:20250311T220000Z
DTEND:20250312T000000Z
X-MICROSOFT-CDO-ALLDAYEVENT:FALSE
SUMMARY:St. Cloud Area Evening At The Capital - Legislative Reception 2025
DESCRIPTION:We invite you to join us for an important evening in St. Paul\, offering a unique opportunity to connect with House Representatives\, Senators\, and key government leaders. Throughout the evening\, legislators and other leaders will casually visit with attendees\, giving you the chance to engage in meaningful conversations and share the issues that matter most to your business and community.\n\n \n\nThis event is a chance to proudly showcase the St. Cloud area\, emphasize its significance\, and express appreciation for the hard work of our lawmakers. It's an excellent opportunity to build valuable relationships\, ensure our region's voice is heard\, and advocate for the future of our businesses and communities.\n\n\n\nRegistration Required\n\nNo Cost to Attend\n\nSponsorship Opportunities Available\n\n \n\nFor your convenience\, complimentary transportation will be provided by Metro Bus. Sign up for bus service during the registration process. The bus will depart promptly from the Northstar Link Park and Ride Lot at 1919 Lincoln Ave SE\, St. Cloud\, at 3:15 PM\, and will depart from Saint Paul at 7:15 PM.\n\n\n\nRegister online\, or by emailing registrations@StCloudAreaChamber.com\, or by calling (320) 656-3800.\n\n\n\nFirst-Timers\n\nWe would love to have you join us for Evening at the Capital! This event is a great way to get introduced to the Chamber's Government Affairs programming while networking with legislators and other members. To help you prepare for the evening\, download this Evening at the Capital Toolkit. If you would like assistance navigating the event\, reach out to Government Affairs Chair Steve Gottwalt at (952) 923-5265. We hope to see you there!
X-ALT-DESC;FMTTYPE=text/html:<br />\n<span style="font-size:12.0pt\;">We invite you to join us for an important evening in St. Paul\, offering a unique opportunity to connect with House Representatives\, Senators\, and key government leaders. Throughout the evening\, legislators and other leaders will casually visit with attendees\, giving you the chance to engage in meaningful conversations and share the issues that matter most to your business and community.</span><br />\n&nbsp\;<br />\n<span style="font-size:12.0pt\;">This event is a chance to proudly showcase the St. Cloud area\, emphasize its significance\, and express appreciation for the hard work of our lawmakers. It&rsquo\;s an excellent opportunity to build valuable relationships\, ensure our region&rsquo\;s voice is heard\, and advocate for the future of our businesses and communities.<br />\n<br />\n<strong>Registration Required</strong></span><br />\n<strong><span style="font-size: 12pt\;">No Cost to Attend</span></strong><br />\n<span style="font-size:12.0pt\;"><strong>Sponsorship Opportunities Available</strong></span><br />\n<span style="color:#B22222\;"><strong>&nbsp\;<br />\n<span style="font-size:12.0pt\;">For your convenience\, complimentary transportation will be provided by Metro Bus. Sign up for bus service during the registration process. The bus will depart promptly from the Northstar Link Park and Ride Lot at 1919 Lincoln Ave SE\, St. Cloud\, at 3:15 PM\, and will depart from Saint Paul at 7:15 PM.</span></strong></span><br />\n<br />\n<span style="font-size:14px\;">Register online\, or by emailing <strong><a href="mailto:registrations@StCloudAreaChamber.com?subject=Legislative%20Connection%3A%20Session%20Preview" target="_blank"><span style="color:#0000CD\;">registrations@StCloudAreaChamber.com</span></a>\,</strong>&nbsp\;or by calling (320) 656-3800.</span><br />\n<br />\n<u><strong>First-Timers</strong></u><br />\nWe would love to have you join us for Evening at the Capital! This event is a great way to get introduced to the Chamber&#39\;s Government Affairs programming while networking with legislators and other members. To help you prepare for the evening\, download this&nbsp\;<strong><a href="https://bit.ly/4aRDaDZ">Evening at the Capital Toolkit</a>.&nbsp\;</strong>If you would like assistance navigating the event\, reach out to Government Affairs Chair Steve Gottwalt at&nbsp\;(952) 923-5265. We hope to see you there!
LOCATION:Radisson Hotel St. Paul Downtown 161 Saint Anthony Avenue St. Paul\, MN 55103
UID:e.2754.11304
SEQUENCE:3
DTSTAMP:20260423T071130Z
URL:https://chambermaster.businesscentralmagazine.com/events/details/st-cloud-area-evening-at-the-capital-legislative-reception-2025-11304
END:VEVENT

END:VCALENDAR
