BEGIN:VCALENDAR
VERSION:2.0
PRODID:-//ChamberMaster//Event Calendar 2.0//EN
METHOD:PUBLISH
X-PUBLISHED-TTL:P3D
REFRESH-INTERVAL:P3D
CALSCALE:GREGORIAN
BEGIN:VEVENT
DTSTART:20250408T213000Z
DTEND:20250409T000000Z
X-MICROSOFT-CDO-ALLDAYEVENT:FALSE
SUMMARY:St. Cloud Area Business Showcase 4-8-2025
DESCRIPTION:St. Cloud Area Business Showcase 2025\n\n\n\nJoin us for a dynamic evening where local business innovation meets community connection! The St. Cloud Area Business Showcase brings together a variety of Chamber member businesses\, offering an engaging experience filled with networking\, discovery\, and fun.\n\n\n\nWhether you're exploring career opportunities\, scouting local services\, or just curious to see what Central Minnesota businesses have to offer\, this event is for you.\n\n\n\nEvent Highlights:\n\n	Explore 60+ Booths: Discover a diverse range of products and services from Chamber members across the region.\n	Tasty Bites & Cash Bar: Enjoy delicious food samples and beverages while mingling.\n	Games & Giveaways: Join in fun exhibitor activities and win door prizes.\n	Networking Opportunities: Build valuable connections with business professionals and community members.\n	Job Exploration: Learn about exciting career possibilities in various industries.
X-ALT-DESC;FMTTYPE=text/html:<br />\n<strong>St. Cloud Area Business Showcase 2025</strong><br />\n<br />\nJoin us for a dynamic evening where local business innovation meets community connection! The St. Cloud Area Business Showcase brings together a variety of Chamber member businesses\, offering an engaging experience filled with networking\, discovery\, and fun.<br />\n<br />\nWhether you&rsquo\;re exploring career opportunities\, scouting local services\, or just curious to see what Central Minnesota businesses have to offer\, this event is for you.<br />\n<br />\n<strong>Event Highlights:</strong>\n<ul>\n	<li><strong>Explore 60+ Booths:</strong>&nbsp\;Discover a diverse range of products and services from Chamber members across the region.</li>\n	<li><strong>Tasty Bites &amp\; Cash Bar:</strong>&nbsp\;Enjoy delicious food samples and beverages while mingling.</li>\n	<li><strong>Games &amp\; Giveaways:</strong>&nbsp\;Join in fun exhibitor activities and win door prizes.</li>\n	<li><strong>Networking Opportunities:</strong>&nbsp\;Build valuable connections with business professionals and community members.</li>\n	<li><strong>Job Exploration:</strong>&nbsp\;Learn about exciting career possibilities in various industries.</li>\n</ul>\n
LOCATION:River's Edge Convention Center 10 4th Ave S St. Cloud
UID:e.2754.11357
SEQUENCE:3
DTSTAMP:20260423T053110Z
URL:https://chambermaster.businesscentralmagazine.com/events/details/st-cloud-area-business-showcase-4-8-2025-11357
END:VEVENT

END:VCALENDAR
