BEGIN:VCALENDAR
VERSION:2.0
PRODID:-//ChamberMaster//Event Calendar 2.0//EN
METHOD:PUBLISH
X-PUBLISHED-TTL:P3D
REFRESH-INTERVAL:P3D
CALSCALE:GREGORIAN
BEGIN:VEVENT
DTSTART:20250920T150000Z
DTEND:20250920T220000Z
X-MICROSOFT-CDO-ALLDAYEVENT:FALSE
SUMMARY:SOS Celebrates 6 Years
DESCRIPTION:SOS and the SOS Thrift Store are celebrating 6 years in business!\n\nJoin us for games\, prizes\, and FOOD!
X-ALT-DESC;FMTTYPE=text/html:SOS and the SOS Thrift Store are celebrating 6 years in business!<br />\nJoin us for games\, prizes\, and FOOD!&nbsp\;
LOCATION:2018 Veteran's Drive St Cloud\, MN 56303
UID:e.2754.12360
SEQUENCE:3
DTSTAMP:20260422T222126Z
URL:https://chambermaster.businesscentralmagazine.com/events/details/sos-celebrates-6-years-12360
END:VEVENT

END:VCALENDAR
