BEGIN:VCALENDAR
VERSION:2.0
PRODID:-//ChamberMaster//Event Calendar 2.0//EN
METHOD:PUBLISH
X-PUBLISHED-TTL:P3D
REFRESH-INTERVAL:P3D
CALSCALE:GREGORIAN
BEGIN:VEVENT
DTSTART:20250422T150000Z
DTEND:20250422T163000Z
X-MICROSOFT-CDO-ALLDAYEVENT:FALSE
SUMMARY:Social Security: Navigating the Future Together
DESCRIPTION:Social Security: Navigating the Future Together\n\nCo-hosted by AARP Minnesota and the St. Cloud State University Center for Economic Education\n\n\n\nJoin us over coffee and treats for an in-person event featuring a St. Cloud State University economics professor and AARP experts. We'll discuss the future of Social Security\, including economic realities\, demographic shifts\, and common myths. Whether you're nearing retirement or just curious\, this session invites you to contribute and learn about the evolving landscape of Social Security.\n\n\n\nTuesday\, April 22\, 2025\n\n10:00 - 11:30 a.m. \n\nSt. Cloud State University \n\nJames W. Miller Learning Resources Center\n\n400 6th St S\, St. Cloud\, MN 56301\n\nFree and accessible parking available in the parking ramp. Bring your ticket with you for validation.\n\n\n\nRegister HERE
X-ALT-DESC;FMTTYPE=text/html:<br />\n<strong>Social Security: Navigating the Future Together</strong><br />\n<em>Co-hosted by AARP Minnesota and the St. Cloud State University Center for Economic Education</em><br />\n<br />\nJoin us over coffee and treats for an in-person event featuring a&nbsp\;St. Cloud State University economics professor and AARP experts. We&#39\;ll discuss the future of Social Security\, including economic realities\, demographic shifts\, and common myths. Whether you&#39\;re nearing retirement or just curious\, this session invites you to contribute and learn about the evolving landscape of Social Security.<br />\n<br />\nTuesday\, April 22\, 2025<br />\n10:00 - 11:30 a.m.&nbsp\;<br />\nSt. Cloud State University&nbsp\;<br />\nJames W. Miller Learning Resources Center<br />\n400 6th St S\, St. Cloud\, MN 56301<br />\nFree and accessible parking available in the parking ramp. Bring your ticket with you for validation.<br />\n<br />\nRegister <a href="https://local.aarp.org/aarp-event/social-security-navigating-the-future-together-dbnmntwqqb4.html"><strong>HERE</strong></a>
LOCATION:St. Cloud State University James W. Miller Learning Resources Center 400 6th St S\, St. Cloud\, MN 56301
UID:e.2754.11427
SEQUENCE:3
DTSTAMP:20260423T052720Z
URL:https://chambermaster.businesscentralmagazine.com/events/details/social-security-navigating-the-future-together-11427
END:VEVENT

END:VCALENDAR
