BEGIN:VCALENDAR
VERSION:2.0
PRODID:-//ChamberMaster//Event Calendar 2.0//EN
METHOD:PUBLISH
X-PUBLISHED-TTL:P3D
REFRESH-INTERVAL:P3D
CALSCALE:GREGORIAN
BEGIN:VEVENT
DTSTART;VALUE=DATE:19970115
DTEND;VALUE=DATE:19970116
TRANSP:TRANSPARENT
X-MICROSOFT-CDO-ALLDAYEVENT:TRUE
SUMMARY:Small group mtg with APO Cty Comm. and G
DESCRIPTION:
X-ALT-DESC;FMTTYPE=text/html:
LOCATION:APO Bldg.
UID:e.2754.541
SEQUENCE:3
DTSTAMP:20260423T043942Z
URL:https://chambermaster.businesscentralmagazine.com/events/details/small-group-mtg-with-apo-cty-comm-and-g-01-15-1997-541
END:VEVENT

END:VCALENDAR
