BEGIN:VCALENDAR
VERSION:2.0
PRODID:-//ChamberMaster//Event Calendar 2.0//EN
METHOD:PUBLISH
X-PUBLISHED-TTL:P3D
REFRESH-INTERVAL:P3D
CALSCALE:GREGORIAN
BEGIN:VEVENT
DTSTART:20250730T210000Z
DTEND:20250730T230000Z
X-MICROSOFT-CDO-ALLDAYEVENT:FALSE
SUMMARY:Sip & Sunshine Patio Party
DESCRIPTION:Join us for a Summer Sips & Sunshine Open House! \n\n\n\nA relaxing patio party with refreshing drinks\, delicious bites and good company. Discover what a life at Ridgeview Place has to offer! The Wandering Cow Hand Dipped Ice Cream and Shaved Ice will be joining us!\n\n\n\nRSVP by July 18th to Natalie \n\nCall 3202502155 or email Natalie.Rudy@accura.healthcare
X-ALT-DESC;FMTTYPE=text/html:Join us for a Summer Sips &amp\; Sunshine Open House!&nbsp\;<br />\n<br />\nA relaxing patio party with refreshing drinks\, delicious bites and good company. Discover what a life at Ridgeview Place has to offer! The Wandering Cow Hand Dipped Ice Cream and Shaved Ice will be joining us!<br />\n<br />\nRSVP by July 18th to Natalie&nbsp\;<br />\nCall 3202502155 or email Natalie.Rudy@accura.healthcare
LOCATION:Ridgeview Place Senior Living 1009 10th Ave NE Sauk Rapids\, MN 56379
UID:e.2754.12298
SEQUENCE:3
DTSTAMP:20260423T011236Z
URL:https://chambermaster.businesscentralmagazine.com/events/details/sip-sunshine-patio-party-12298
END:VEVENT

END:VCALENDAR
