BEGIN:VCALENDAR
VERSION:2.0
PRODID:-//ChamberMaster//Event Calendar 2.0//EN
METHOD:PUBLISH
X-PUBLISHED-TTL:P3D
REFRESH-INTERVAL:P3D
CALSCALE:GREGORIAN
BEGIN:VEVENT
DTSTART:19961227T060000Z
DTEND:19970131T060000Z
X-MICROSOFT-CDO-ALLDAYEVENT:FALSE
SUMMARY:Session Priorities/Legislative Kickoff 1/8/97
DESCRIPTION:Session Priorities/Legislative Kickoff 1/8/97
X-ALT-DESC;FMTTYPE=text/html:Session Priorities/Legislative Kickoff 1/8/97
LOCATION:Radisson South\, Bloomington
UID:e.2754.2240
SEQUENCE:3
DTSTAMP:20260423T043839Z
URL:https://chambermaster.businesscentralmagazine.com/events/details/session-priorities-legislative-kickoff-1-8-97-12-27-1996-2240
END:VEVENT

END:VCALENDAR
