BEGIN:VCALENDAR
VERSION:2.0
PRODID:-//ChamberMaster//Event Calendar 2.0//EN
METHOD:PUBLISH
X-PUBLISHED-TTL:P3D
REFRESH-INTERVAL:P3D
CALSCALE:GREGORIAN
BEGIN:VEVENT
DTSTART:20250719T000000Z
DTEND:20250719T030000Z
X-MICROSOFT-CDO-ALLDAYEVENT:FALSE
SUMMARY:Scout Night at the St Cloud Rox
DESCRIPTION:Join us for an unforgettable evening of baseball and Scouting spirit at Scout Night with the St. Cloud Rox! The festivities begin with a free tailgate from 5:00 PM to 6:00 PM at the Central MN Council Service Center (1191 Scout Dr.\, Sartell\, MN 56377). Enjoy food\, games\, and camaraderie before heading to Joe Faber Field\, where gates open at 6:05 PM and the first pitch is at 7:05 PM.\n\nSpecial Highlights:\n\n\n	The first 10 youth registered will receive a "Scouting America" baseball!\n	One lucky Scout will be selected to throw out the first pitch drawing on Monday\, July 14th!\n	?Exploring Program Director Sarah Dean will sing the National Anthem!\n	Post-game Friday night fireworks!\n\n\nAll proceeds from this event support local youth through impactful Scouting and Exploring programs that foster leadership\, character development\, and career exploration opportunities throughout the year.\n\n?? Register by Thursday\, July 10th to secure your spot\n\nBring your family and friends\, and be part of a night filled with fun\, fireworks\, and community support!  Let's fill the stands with central MN spirit!
X-ALT-DESC;FMTTYPE=text/html:<p>Join us for an unforgettable evening of baseball and Scouting spirit at <strong>Scout Night with the St. Cloud Rox</strong>! The festivities begin with a <strong>free tailgate</strong> from <strong>5:00 PM to 6:00 PM</strong> at the <strong>Central MN Council Service Center (1191 Scout Dr.\, Sartell\, MN 56377)</strong>. Enjoy food\, games\, and camaraderie before heading to <strong>Joe Faber Field</strong>\, where gates open at <strong>6:05 PM</strong> and the first pitch is at <strong>7:05 PM</strong>.</p>\n\n<p><strong>Special Highlights:</strong></p>\n\n<ul>\n	<li>The first 10 youth registered will receive a &quot\;Scouting America&quot\; baseball!</li>\n	<li><strong>One lucky Scout</strong> will be selected to <strong>throw out the first pitch</strong>&mdash\;drawing on <strong>Monday\, July 14th</strong>!</li>\n	<li>?Exploring Program Director Sarah Dean will sing the National Anthem!</li>\n	<li>Post-game Friday night fireworks!</li>\n</ul>\n\n<p><strong>All proceeds from this event support local youth through impactful Scouting and Exploring programs</strong> that foster leadership\, character development\, and career exploration opportunities throughout the year.</p>\n\n<p>?? <strong>Register by Thursday\, July 10th</strong> to secure your spot</p>\n\n<p>Bring your family and friends\, and be part of a night filled with fun\, fireworks\, and community support!&nbsp\; Let&#39\;s fill the stands with central MN spirit!</p>\n
LOCATION:Tailgate: Central MN Council\, Scouting America 1191 Scout Dr\, Sartell\, MN 56377 Game: Joe Faber Field 5001 Veterans Drive\, St Cloud\, MN 56303
UID:e.2754.11566
SEQUENCE:3
DTSTAMP:20260423T011016Z
URL:https://chambermaster.businesscentralmagazine.com/events/details/scout-night-at-the-st-cloud-rox-11566
END:VEVENT

END:VCALENDAR
