BEGIN:VCALENDAR
VERSION:2.0
PRODID:-//ChamberMaster//Event Calendar 2.0//EN
METHOD:PUBLISH
X-PUBLISHED-TTL:P3D
REFRESH-INTERVAL:P3D
CALSCALE:GREGORIAN
BEGIN:VEVENT
DTSTART:20250516T152000Z
DTEND:20250516T180000Z
X-MICROSOFT-CDO-ALLDAYEVENT:FALSE
SUMMARY:Sauk Rapids-Rice Job Fair
DESCRIPTION:SRRHS Job Fair\, scheduled for Friday\, May 16th\, from 10:20 am to 12:40 pm\, with check-in starting at 9:00 am. Our goal is to connect local businesses interested in hiring high school students with the talented youth in our Sauk Rapids-Rice community.\n\n\n\nWho: Businesses and Post Secondary Institutions from Central MN\n\nWhat We Provide\n- A table and two chairs for each business\n\n- Power where needed\n\n- Accommodation for additional requests when possible\n\n- Light lunch\n\nEvent Schedule\n- All students will attend in 30-minute intervals during the first hour of the event\n\n- The fair will continue through lunch periods\, allowing students more time to connect with businesses\n\nWhy Participate?\n- Access to a pool of motivated student workers\n\n- Opportunity for students to apply and potentially interview on-site\n\n- High attendance due to the event being held during school hours\n\n- Extensive promotion through social media\, posters\, and announcements\n\n \n\nHow to Register\n\nIf you're interested in participating\, please fill out the following form by May 2\, 2025: https://docs.google.com/forms/d/e/1FAIpQLSc7esjv1Yum60RpIGMrC7hNZesVyS3xJ37Dh9G1onOki8he5g/viewform?usp=sharing\n\nFeel free to forward this invitation to other businesses that may be interested.\n\nContact Information\n\n- Primary Contacts: Belle Gruber\, Kendra Carlson and Hayden Reinert at jobfair@isd47.org\n\n- Additional Contacts:\n\n  - Josh Bauer (Business Teacher and DECA Advisor): josh.bauer@isd47.org\n\n  - Sandy Logrono (Principal): sandy.logrono@isd47.org\n\n \n\nWe are excited to host this event and look forward to seeing your business there! Please don't hesitate to reach out with any questions.
X-ALT-DESC;FMTTYPE=text/html:<p style="margin:0in"><span style="font-size:10.0pt\;font-family:&quot\;Arial&quot\;\,sans-serif\;\ncolor:black">SRRHS Job Fair\, scheduled for Friday\, May 16th\, from 10:20 am to 12:40 pm\, with check-in starting at 9:00 am. Our goal is to connect local businesses interested in hiring high school students with the talented youth in our Sauk Rapids-Rice community.</span><u9:p></u9:p><o:p></o:p><br />\n<br />\n<strong><span style="color:black\;"><span style="font-family:arial\,sans-serif\;"><span style="font-size:10.0pt\;">Who:</span></span></span></strong><span style="color:black\;"><span style="font-family:arial\,sans-serif\;"><span style="font-size:10.0pt\;">&nbsp\;Businesses and Post Secondary Institutions from Central MN</span></span></span></p>\n\n<h2 style="margin-top:.25in\;margin-right:0in\;margin-bottom:4.0pt\;margin-left:0in\;"><span style="color:black\;"><span style="font-family:arial\,sans-serif\;"><span style="font-size:10.0pt\;">What We Provide</span></span></span></h2>\n<span style="color:black\;"><span style="font-family:arial\,sans-serif\;"><span style="font-size:10.0pt\;">- A table and two chairs for each business</span></span></span><br />\n<span style="color:black\;"><span style="font-family:arial\,sans-serif\;"><span style="font-size:10.0pt\;">- Power where needed</span></span></span><br />\n<span style="color:black\;"><span style="font-family:arial\,sans-serif\;"><span style="font-size:10.0pt\;">- Accommodation for additional requests when possible</span></span></span><br />\n<span style="color:black\;"><span style="font-family:arial\,sans-serif\;"><span style="font-size:10.0pt\;">- Light lunch</span></span></span>\n\n<h2 style="margin-top:.25in\;margin-right:0in\;margin-bottom:4.0pt\;margin-left:0in\;"><span style="color:black\;"><span style="font-family:arial\,sans-serif\;"><span style="font-size:10.0pt\;">Event Schedule</span></span></span></h2>\n<span style="color:black\;"><span style="font-family:arial\,sans-serif\;"><span style="font-size:10.0pt\;">- All students will attend in 30-minute intervals during the first hour of the event</span></span></span><br />\n<span style="color:black\;"><span style="font-family:arial\,sans-serif\;"><span style="font-size:10.0pt\;">- The fair will continue through lunch periods\, allowing students more time to connect with businesses</span></span></span>\n\n<h2 style="margin-top:.25in\;margin-right:0in\;margin-bottom:4.0pt\;margin-left:0in\;"><span style="color:black\;"><span style="font-family:arial\,sans-serif\;"><span style="font-size:10.0pt\;">Why Participate?</span></span></span></h2>\n<span style="color:black\;"><span style="font-family:arial\,sans-serif\;"><span style="font-size:10.0pt\;">- Access to a pool of motivated student workers</span></span></span><br />\n<span style="color:black\;"><span style="font-family:arial\,sans-serif\;"><span style="font-size:10.0pt\;">- Opportunity for students to apply and potentially interview on-site</span></span></span><br />\n<span style="color:black\;"><span style="font-family:arial\,sans-serif\;"><span style="font-size:10.0pt\;">- High attendance due to the event being held during school hours</span></span></span><br />\n<span style="color:black\;"><span style="font-family:arial\,sans-serif\;"><span style="font-size:10.0pt\;">- Extensive promotion through social media\, posters\, and announcements</span></span></span><br />\n&nbsp\;<br />\n<strong><span style="color:black\;"><span style="font-family:arial\,sans-serif\;"><span style="font-size:10.0pt\;">How to Register</span></span></span></strong><br />\n<span style="color:black\;"><span style="font-family:arial\,sans-serif\;"><span style="font-size:10.0pt\;">If you&#39\;re interested in participating\, please fill out the following form by May 2\, 2025:&nbsp\;</span></span></span><a href="https://docs.google.com/forms/d/e/1FAIpQLSc7esjv1Yum60RpIGMrC7hNZesVyS3xJ37Dh9G1onOki8he5g/viewform?usp=sharing" target="_blank"><span style="font-family:arial\,sans-serif\;"><span style="font-size:10.0pt\;">https://docs.google.com/forms/d/e/1FAIpQLSc7esjv1Yum60RpIGMrC7hNZesVyS3xJ37Dh9G1onOki8he5g/viewform?usp=sharing</span></span></a><br />\n<span style="color:black\;"><span style="font-family:arial\,sans-serif\;"><span style="font-size:10.0pt\;">Feel free to forward this invitation to other businesses that may be interested.</span></span></span>\n\n<h2 style="margin-top:.25in\;margin-right:0in\;margin-bottom:4.0pt\;margin-left:0in\;"><span style="color:black\;"><span style="font-family:arial\,sans-serif\;"><span style="font-size:10.0pt\;">Contact Information</span></span></span></h2>\n\n<p style="margin:0in"><span style="color:black\;"><span style="font-family:arial\,sans-serif\;"><span style="font-size:10.0pt\;">- Primary Contacts: Belle Gruber\, Kendra Carlson and Hayden Reinert at&nbsp\;<a href="mailto:jobfair@isd47.org" target="_blank">jobfair@isd47.org</a></span></span></span><br />\n<span style="color:black\;"><span style="font-family:arial\,sans-serif\;"><span style="font-size:10.0pt\;">- Additional Contacts:</span></span></span><br />\n<span style="color:black\;"><span style="font-family:arial\,sans-serif\;"><span style="font-size:10.0pt\;">&nbsp\;&nbsp\;- Josh Bauer (Business Teacher and DECA Advisor):&nbsp\;<a href="mailto:josh.bauer@isd47.org" target="_blank">josh.bauer@isd47.org</a></span></span></span><br />\n<span style="color:black\;"><span style="font-family:arial\,sans-serif\;"><span style="font-size:10.0pt\;">&nbsp\;&nbsp\;- Sandy Logrono (Principal):&nbsp\;<a href="mailto:sandy.logrono@isd47.org" target="_blank">sandy.logrono@isd47.org</a></span></span></span><br />\n&nbsp\;<br />\n<span style="color:black\;"><span style="font-family:arial\,sans-serif\;"><span style="font-size:10.0pt\;">We are excited to host this event and look forward to seeing your business there! Please don&#39\;t hesitate to reach out with any questions.</span></span></span><br />\n&nbsp\;</p>\n
LOCATION:Sauk Rapids-Rice High School Main Gym 1833 Osauka Rd NE Sauk Rapids\, MN 56379
UID:e.2754.11478
SEQUENCE:3
DTSTAMP:20260423T041108Z
URL:https://chambermaster.businesscentralmagazine.com/events/details/sauk-rapids-rice-job-fair-11478
END:VEVENT

END:VCALENDAR
