BEGIN:VCALENDAR
VERSION:2.0
PRODID:-//ChamberMaster//Event Calendar 2.0//EN
METHOD:PUBLISH
X-PUBLISHED-TTL:P3D
REFRESH-INTERVAL:P3D
CALSCALE:GREGORIAN
BEGIN:VEVENT
DTSTART:20250424T164500Z
DTEND:20250424T180000Z
X-MICROSOFT-CDO-ALLDAYEVENT:FALSE
SUMMARY:Sauk Rapids Chamber Meeting 4/24/2025
DESCRIPTION:Mark your calendar for this Sauk Rapids Chamber meeting\, from 11:45 a.m. - 1 p.m. All Chamber members and guests who are interested in Sauk Rapids community issues are welcome.\n\n\n\nThere is no cost to attend\, but please register for lunch at least two days prior by calling 251-2940\, ext. 126\, or emailing registrations@StCloudAreaChamber.com\n\nCo-Hosts: AMG Promotions & Apparel and Manea's Meats\n\n"AMG's 30th Anniversary Celebration!"\n\n\n\nSpeaker: Tauna Quimby\, City of St. Cloud RSVP\n\nTopic: Volunteering
X-ALT-DESC;FMTTYPE=text/html:<p style="color: rgb(51\, 51\, 51)\; font-family: sans-serif\, Arial\, Verdana\, &quot\;Trebuchet MS&quot\;\; font-size: 13px\;">Mark your calendar for this&nbsp\;Sauk Rapids Chamber meeting\, from 11:45 a.m. - 1 p.m.&nbsp\;All Chamber members and guests who are interested in Sauk Rapids community issues are welcome.<br />\n<br />\nThere is no cost to attend\, but please register for lunch at least two days prior by&nbsp\;calling 251-2940\, ext. 126\, or emailing registrations@StCloudAreaChamber.com</p>\n\n<p style="color: rgb(51\, 51\, 51)\; font-family: sans-serif\, Arial\, Verdana\, &quot\;Trebuchet MS&quot\;\; font-size: 13px\;"><strong>Co-Hosts: AMG Promotions &amp\; Apparel and Manea&#39\;s Meats<br />\n<em>&quot\;AMG&#39\;s 30th Anniversary Celebration!&quot\;</em></strong><br />\n<br />\n<b>Speaker: Tauna Quimby\, City of St. Cloud RSVP<br />\nTopic: Volunteering</b></p>\n\n<p style="color: rgb(51\, 51\, 51)\; font-family: sans-serif\, Arial\, Verdana\, &quot\;Trebuchet MS&quot\;\; font-size: 13px\;"><br />\n&nbsp\;</p>\n
LOCATION:The Clearing\, Riverside Terrace 195 River Avenue South Sauk Rapids\, MN 56379
UID:e.2754.11378
SEQUENCE:3
DTSTAMP:20260423T053623Z
URL:https://chambermaster.businesscentralmagazine.com/events/details/sauk-rapids-chamber-meeting-4-24-2025-11378
END:VEVENT

END:VCALENDAR
