BEGIN:VCALENDAR
VERSION:2.0
PRODID:-//ChamberMaster//Event Calendar 2.0//EN
METHOD:PUBLISH
X-PUBLISHED-TTL:P3D
REFRESH-INTERVAL:P3D
CALSCALE:GREGORIAN
BEGIN:VEVENT
DTSTART:20211216T173000Z
DTEND:20211216T190000Z
X-MICROSOFT-CDO-ALLDAYEVENT:FALSE
SUMMARY:Sauk Rapids Chamber Meeting 12/16/21
DESCRIPTION:Mark your calendar for this Sauk Rapids Chamber meeting\, from 11:45 a.m. - 1 p.m. All Chamber members and guests who are interested in Sauk Rapids community issues are welcome.\n\n\n\nThere is no cost to attend\, but please register for lunch at least two days prior by calling 251-2940\, ext. 126\, or emailing registrations@StCloudAreaChamber.com\n\nALL UNREGISTERED ATTENDEES WILL BE CHARGED $5 AT THE DOOR!\n\nHost: Dick's Nuisance Animal Control of St. Cloud\, LLC\n\nSpeaker: Luke Greiner\, DEED\n\nTopic: Financial Literacy
X-ALT-DESC;FMTTYPE=text/html:<p style="color: rgb(51\, 51\, 51)\; font-family: sans-serif\, Arial\, Verdana\, &quot\;Trebuchet MS&quot\;\; font-size: 13px\;">Mark your calendar for this&nbsp\;Sauk Rapids Chamber meeting\, from 11:45 a.m. - 1 p.m.&nbsp\;All Chamber members and guests who are interested in Sauk Rapids community issues are welcome.<br />\n<br />\nThere is no cost to attend\, but please register for lunch at least two days prior by&nbsp\;calling 251-2940\, ext. 126\, or emailing registrations@StCloudAreaChamber.com</p>\n\n<p style="color: rgb(51\, 51\, 51)\; font-family: sans-serif\, Arial\, Verdana\, &quot\;Trebuchet MS&quot\;\; font-size: 13px\;"><strong><em>ALL UNREGISTERED ATTENDEES WILL BE CHARGED $5 AT THE DOOR!</em></strong></p>\n\n<p style="color: rgb(51\, 51\, 51)\; font-family: sans-serif\, Arial\, Verdana\, &quot\;Trebuchet MS&quot\;\; font-size: 13px\;"><strong>Host:</strong>&nbsp\;Dick&#39\;s Nuisance Animal Control of St. Cloud\, LLC<br />\n<strong>Speaker: </strong>Luke Greiner\, DEED<br />\n<strong>Topic: </strong>Financial Literacy</p>\n
LOCATION:The Clearing\, Riverside Terrace (the newly renovated Lions Park) 195 River Avenue South Sauk Rapids\, MN 56379
UID:e.2754.7912
SEQUENCE:3
DTSTAMP:20260425T224035Z
URL:https://chambermaster.businesscentralmagazine.com/events/details/sauk-rapids-chamber-meeting-12-16-21-7912
END:VEVENT

END:VCALENDAR
