BEGIN:VCALENDAR
VERSION:2.0
PRODID:-//ChamberMaster//Event Calendar 2.0//EN
METHOD:PUBLISH
X-PUBLISHED-TTL:P3D
REFRESH-INTERVAL:P3D
CALSCALE:GREGORIAN
BEGIN:VEVENT
DTSTART:20241024T161500Z
DTEND:20241024T180000Z
X-MICROSOFT-CDO-ALLDAYEVENT:FALSE
SUMMARY:Sauk Rapids Chamber Meeting 10/24/2024
DESCRIPTION:Mark your calendar for this Sauk Rapids Chamber meeting\, from 11:45 a.m. - 1 p.m. All Chamber members and guests who are interested in Sauk Rapids community issues are welcome.\n\n\n\nThere is no cost to attend\, but please register for lunch at least two days prior by calling 251-2940\, ext. 126\, or emailing registrations@StCloudAreaChamber.com\n\nHost: Catholic Charities\n\nProgram: Networking Activity
X-ALT-DESC;FMTTYPE=text/html:<p style="color: rgb(51\, 51\, 51)\; font-family: sans-serif\, Arial\, Verdana\, &quot\;Trebuchet MS&quot\;\; font-size: 13px\;">Mark your calendar for this&nbsp\;Sauk Rapids Chamber meeting\, from 11:45 a.m. - 1 p.m.&nbsp\;All Chamber members and guests who are interested in Sauk Rapids community issues are welcome.<br />\n<br />\nThere is no cost to attend\, but please register for lunch at least two days prior by&nbsp\;calling 251-2940\, ext. 126\, or emailing registrations@StCloudAreaChamber.com</p>\n\n<p style="color: rgb(51\, 51\, 51)\; font-family: sans-serif\, Arial\, Verdana\, &quot\;Trebuchet MS&quot\;\; font-size: 13px\;"><strong>Host:</strong>&nbsp\;<b><i>Catholic Charities</i></b><br />\n<strong>Program: <i>Networking Activity</i></strong></p>\n\n<p style="color: rgb(51\, 51\, 51)\; font-family: sans-serif\, Arial\, Verdana\, &quot\;Trebuchet MS&quot\;\; font-size: 13px\;"><br />\n&nbsp\;</p>\n
LOCATION:The Clearing\, Riverside Terrace 195 River Avenue South Sauk Rapids\, MN 56379
UID:e.2754.11168
SEQUENCE:3
DTSTAMP:20260423T151218Z
URL:https://chambermaster.businesscentralmagazine.com/events/details/sauk-rapids-chamber-meeting-10-24-2024-11168
END:VEVENT

END:VCALENDAR
