BEGIN:VCALENDAR
VERSION:2.0
PRODID:-//ChamberMaster//Event Calendar 2.0//EN
METHOD:PUBLISH
X-PUBLISHED-TTL:P3D
REFRESH-INTERVAL:P3D
CALSCALE:GREGORIAN
BEGIN:VEVENT
DTSTART:20250828T163000Z
DTEND:20250828T180000Z
X-MICROSOFT-CDO-ALLDAYEVENT:FALSE
SUMMARY:Sauk Rapids Chamber Annual Business Showcase 8/28/2025
DESCRIPTION:Mark your calendar for the Annual Sauk Rapids Chamber Business Showcase!  This meeting is from 11:45 a.m. - 1:00 p.m. All Chamber members and guests who are interested in Sauk Rapids community issues are welcome.\n\n\n\nHost: Sauk Rapids Chamber of Commerce\n\nHosts include: Alliance Imaging\, AMG Promotions & Apparel\, Blueprint Design Co.\, Culligan Soft Water Service\, Motor Works Auto Repair\, Shepherd's Watch Security\, The Good Shepherd Community White Wolf Custom Apparel\, Yale Mechanical
X-ALT-DESC;FMTTYPE=text/html:<p>Mark your calendar for the Annual Sauk Rapids Chamber Business Showcase!&nbsp\; This meeting is from 11:45 a.m. - 1:00 p.m.&nbsp\;All Chamber members and guests who are interested in Sauk Rapids community issues are welcome.<br />\n<br />\n<strong>Host:</strong>&nbsp\;<span background-color:="" font-size:="" style="color: rgb(51\, 51\, 51)\; font-family: sans-serif\, Arial\, Verdana\, " trebuchet="">Sauk Rapids Chamber of Commerce</span><br />\n<b>Hosts include: </b>Alliance Imaging\, AMG Promotions &amp\; Apparel\, Blueprint Design Co.\, Culligan Soft Water Service\, Motor Works Auto Repair\, Shepherd&#39\;s Watch Security\, The Good Shepherd Community White Wolf Custom Apparel\, Yale Mechanical&nbsp\;</p>\n
LOCATION:The Clearing\, Riverside Terrace 195 River Avenue South Sauk Rapids\, MN 56379
UID:e.2754.11382
SEQUENCE:3
DTSTAMP:20260422T235135Z
URL:https://chambermaster.businesscentralmagazine.com/events/details/sauk-rapids-chamber-annual-business-showcase-8-28-2025-11382
END:VEVENT

END:VCALENDAR
