BEGIN:VCALENDAR
VERSION:2.0
PRODID:-//ChamberMaster//Event Calendar 2.0//EN
METHOD:PUBLISH
X-PUBLISHED-TTL:P3D
REFRESH-INTERVAL:P3D
CALSCALE:GREGORIAN
BEGIN:VEVENT
DTSTART:20260827T164500Z
DTEND:20260827T180000Z
X-MICROSOFT-CDO-ALLDAYEVENT:FALSE
SUMMARY:Sauk Rapids Chamber Annual Business Showcase 8/27/26
DESCRIPTION:Mark your calendar for the Annual Sauk Rapids Chamber Business Showcase!  This meeting is from 11:45 a.m. - 1:00 p.m. All Chamber members and guests who are interested in Sauk Rapids community issues are welcome.\n\n\n\nHost: Sauk Rapids Chamber of Commerce\n\nSponsors include:
X-ALT-DESC;FMTTYPE=text/html:<p>Mark your calendar for the Annual Sauk Rapids Chamber Business Showcase!&nbsp\; This meeting is from 11:45 a.m. - 1:00 p.m.&nbsp\;All Chamber members and guests who are interested in Sauk Rapids community issues are welcome.<br />\n<br />\n<strong>Host:</strong>&nbsp\;<span background-color:="" font-size:="" style="color: rgb(51\, 51\, 51)\; font-family: sans-serif\, Arial\, Verdana\, " trebuchet="">Sauk Rapids Chamber of Commerce</span><br />\n<b>Sponsors&nbsp\;include:&nbsp\;</b></p>\n
LOCATION:The Clearing\, Riverside Terrace 195 River Avenue South Sauk Rapids\, MN 56379
UID:e.2754.12475
SEQUENCE:3
DTSTAMP:20260422T153247Z
URL:https://chambermaster.businesscentralmagazine.com/events/details/sauk-rapids-chamber-annual-business-showcase-8-27-26-12475
END:VEVENT

END:VCALENDAR
