BEGIN:VCALENDAR
VERSION:2.0
PRODID:-//ChamberMaster//Event Calendar 2.0//EN
METHOD:PUBLISH
X-PUBLISHED-TTL:P3D
REFRESH-INTERVAL:P3D
CALSCALE:GREGORIAN
BEGIN:VEVENT
DTSTART:20260723T220000Z
DTEND:20260723T230000Z
X-MICROSOFT-CDO-ALLDAYEVENT:FALSE
SUMMARY:Rooted Hearts Yoga
DESCRIPTION:This gentle yoga experience offers space to slow down\, breathe deeply\, and reconnect with your body. Through mindful movement\, guided breathing\, and intentional rest\, participants are supported in finding comfort and ease open to anyone seeking care and support.\n\n\n	Yoga for every BODY type\n\n\n\n\n	No yoga experience necessary\n	\n	\n	\n	\n	Judgement free zone\n	\n	\n	\n	\n\n\n\n\n\n\n\n\n\n	Bring a yoga mat if you have one (limited available).\n\n\n\n	Bring a pillow or blanket for extra comfort\n\n\n\n\n\n	Comfortable clothing recommended.\n\n\n\n\n\n	Bring a water bottle.\n\n\n\n\n\n	Bring an open mind.\n\n\n\n\n\n\n	Modification to poses will be provided
X-ALT-DESC;FMTTYPE=text/html:This gentle yoga experience offers space to slow down\, breathe deeply\, and reconnect with your body. Through mindful movement\, guided breathing\, and intentional rest\, participants are supported in finding comfort and ease&mdash\;open to anyone seeking care and support.\n<div>\n<ul>\n	<li><strong>Yoga for every BODY type</strong></li>\n</ul>\n\n<div>\n<ul>\n	<li><strong>No yoga experience necessary</strong></li>\n	<li>\n	<div>\n	<div>\n	<div>\n	<p><strong>Judgement free zone</strong></p>\n	</div>\n	</div>\n	</div>\n	</li>\n</ul>\n</div>\n\n<div>\n<div>\n<div>\n<div>\n<div>\n<ul>\n	<li><strong>Bring a yoga mat if you have one (limited available).</strong></li>\n</ul>\n\n<ul>\n	<li><strong>Bring a pillow or blanket for extra comfort</strong></li>\n</ul>\n</div>\n\n<div>\n<ul>\n	<li><strong>Comfortable clothing recommended.</strong></li>\n</ul>\n</div>\n\n<div>\n<ul>\n	<li><strong>Bring a water bottle.</strong></li>\n</ul>\n</div>\n\n<div>\n<ul>\n	<li><strong>Bring an open mind.</strong></li>\n</ul>\n</div>\n</div>\n</div>\n\n<ul>\n	<li><strong>Modification to poses will be provided</strong></li>\n</ul>\n</div>\n</div>\n</div>\n
LOCATION:Bri's Lodge 406 Great Oak Drive Waite Park\, MN 56387
UID:e.2754.12623
SEQUENCE:3
DTSTAMP:20260422T120652Z
URL:https://chambermaster.businesscentralmagazine.com/events/details/rooted-hearts-yoga-07-23-2026-12623
END:VEVENT

END:VCALENDAR
