BEGIN:VCALENDAR
VERSION:2.0
PRODID:-//ChamberMaster//Event Calendar 2.0//EN
METHOD:PUBLISH
X-PUBLISHED-TTL:P3D
REFRESH-INTERVAL:P3D
CALSCALE:GREGORIAN
BEGIN:VEVENT
DTSTART:20250912T210000Z
DTEND:20250913T020000Z
X-MICROSOFT-CDO-ALLDAYEVENT:FALSE
SUMMARY:Rockin' Recovery in the Park
DESCRIPTION:Recovery is worth celebrating and we're bringing the whole community together to do just that.\n\n \n\nJoin Recovery Community Network for an inspiring evening filled with movement\, music\, and meaningful connection at Rockin' Recovery in the Park 2025!\n\n \n\nThis year\, our Rockin' Recovery in the Park is also a fundraiser supporting RCN's mission to provide peer recovery support\, harm reduction services\, and advocacy across Central Minnesota. Participants are encouraged to form fundraising teams\, rally support\, and compete for prizes awarded to our top fundraisers.\n\nEvent overview:\n\n-A scenic 5K Run/Walk to raise awareness and support recovery services\n\n-DJ bringing energy and celebration to the stage\n\n-Food vendors\n\n-Family-friendly games and activities throughout the evening\n\n-Community resource booths and inspiring stories from people in recovery\n\n \n\n*Whether you're walking your own recovery path\, supporting a loved one\, or simply standing in solidarity with the movement this event is for you. \n\n* Free and open to the public.
X-ALT-DESC;FMTTYPE=text/html:<div>Recovery is worth celebrating&mdash\;and we&rsquo\;re bringing the whole community together to do just that.<br />\n&nbsp\;</div>\n\n<div style="text-align:center"><strong>Join Recovery Community Network for an inspiring evening filled with movement\, music\, and meaningful connection at Rockin&rsquo\; Recovery in the Park 2025!</strong></div>\n\n<div>&nbsp\;</div>\n\n<div>This year\, our Rockin&#39\; Recovery in the Park is also a fundraiser supporting RCN&rsquo\;s mission to provide peer recovery support\, harm reduction services\, and advocacy across Central Minnesota. Participants are encouraged to form fundraising teams\, rally support\, and compete for prizes awarded to our top fundraisers.</div>\n\n<div>Event overview:</div>\n\n<div>-A scenic 5K Run/Walk to raise awareness and support recovery services</div>\n\n<div>-DJ bringing energy and celebration to the stage</div>\n\n<div>-Food vendors</div>\n\n<div>-Family-friendly games and activities throughout the evening</div>\n\n<div>-Community resource booths and inspiring stories from people in recovery</div>\n\n<div>&nbsp\;</div>\n\n<div>*Whether you&rsquo\;re walking your own recovery path\, supporting a loved one\, or simply standing in solidarity with the movement&mdash\;this event is for you.&nbsp\;</div>\n\n<div>* Free and open to the public.&nbsp\;</div>\n
LOCATION:Eastman Park at Lake George | St. Cloud\, MN
UID:e.2754.12304
SEQUENCE:3
DTSTAMP:20260422T222336Z
URL:https://chambermaster.businesscentralmagazine.com/events/details/rockin-recover-in-the-park-12304
END:VEVENT

END:VCALENDAR
