BEGIN:VCALENDAR
VERSION:2.0
PRODID:-//ChamberMaster//Event Calendar 2.0//EN
METHOD:PUBLISH
X-PUBLISHED-TTL:P3D
REFRESH-INTERVAL:P3D
CALSCALE:GREGORIAN
BEGIN:VEVENT
DTSTART:20251016T123000Z
DTEND:20251016T140000Z
X-MICROSOFT-CDO-ALLDAYEVENT:FALSE
SUMMARY:Rise and Shine Fundraising Breakfast
DESCRIPTION:Event Name: Rise and Shine Fundraising Breakfast\n\nLocation: Banquets of Minnesota\; 6310 Hwy 65 NE\, Fridley\, MN 55432\n\nDate: Thursday\, October 16\, 2025\n\nTime: 8:00 am - 9:00 am (doors open at 7:30 am)\n\nCost: The event is free to attend\, RSVP required. Donations to Rise will be requested.\n\nDescription: Our committed donors and interested new supporters are invited to join Rise's leadership for a delicious breakfast\, inspirational stories\, and updates for the future as we invite them to continue supporting Rise's work opening doors to opportunity for thousands of people with disabilities and other challenges in Minnesota and Western Wisconsin.\n\nMenu: Plated meal will include scrambled eggs\, pancakes\, breakfast potatoes\, and sausage\n\nRSVP with your information to tbrinker@rise.org by October 3.\n\nRSVP information to include:\n\n	Full names for you and guests\n	Dietary restrictions or allergies to consider and for whom they are needed\n	If ASL interpreting is required and for whom it's needed\n	Any accessibility or wheelchair needs and for whom they are needed\n\n \n\nWould you like to fill your own table of 8-10 guests with individuals interested in supporting Rise's mission at our fundraising breakfast? Include their full names and any of the above information with your RSVP.\n\nWe are currently seeking event sponsors for our calendar of events throughout 2025\, which includes an online awareness campaign\, an online fundraising auction\, and a business networking event. Interested in learning more or sponsoring? Contact Tom at tbrinker@rise.org or 763-792-2450.\n\n \n\nHere is the link to the event on our website: Rise Fundraising Breakfast - Rise
X-ALT-DESC;FMTTYPE=text/html:<strong><span style="color:#242424\;">Event Name</span></strong><span style="color:#242424\;">: Rise and Shine Fundraising Breakfast</span><br />\n<strong><span style="color:#242424\;">Location</span></strong><span style="color:#242424\;">: Banquets of Minnesota\; 6310 Hwy 65 NE\, Fridley\, MN 55432</span><br />\n<strong><span style="color:#242424\;">Date</span></strong><span style="color:#242424\;">: Thursday\, October 16\, 2025</span><br />\n<strong><span style="color:#242424\;">Time</span></strong><span style="color:#242424\;">: 8:00 am - 9:00 am (doors open at 7:30 am)</span><br />\n<strong><span style="color:#242424\;">Cost</span></strong><span style="color:#242424\;">: The event is free to attend\, RSVP required. Donations to Rise will be requested.</span><br />\n<strong><span style="color:#242424\;">Description</span></strong>: <span style="color:black\;">Our committed donors and interested new supporters are invited to join Rise&rsquo\;s leadership for a delicious breakfast\, inspirational stories\, and updates for the future as we invite them to continue supporting Rise&rsquo\;s work opening doors to opportunity for thousands of people with disabilities and other challenges in Minnesota and Western Wisconsin.</span><br />\n<span style="color:black\;">Menu: Plated meal will include scrambled eggs\, pancakes\, breakfast potatoes\, and sausage</span><br />\n<strong><em><span style="color:black\;">RSVP with your information to </span></em></strong><strong><em><span style="color:#1F76C2\;"><a href="mailto:tbrinker@rise.org" title="mailto:tbrinker@rise.org"><span style="color:#1F76C2\;">tbrinker@rise.org</span></a>&nbsp\;</span></em></strong><strong><em><span style="color:black\;">by October 3</span></em></strong><em><span style="color:black\;">.</span></em><br />\n<span style="color:black\;">RSVP information to include:</span>\n<ul style="list-style-type:&quot\;- &quot\;\;">\n	<li style="color:black\;background:white\;align-self:start\;">Full names for you and guests</li>\n	<li style="color:black\;background:white\;align-self:start\;">Dietary restrictions or allergies to consider and for whom they are needed</li>\n	<li style="color:black\;background:white\;align-self:start\;">If ASL interpreting is required and for whom it&rsquo\;s needed</li>\n	<li style="color:black\;background:white\;align-self:start\;">Any accessibility or wheelchair needs and for whom they are needed</li>\n</ul>\n&nbsp\;<br />\n<span style="color:black\;">Would you like to <strong><em>fill your own table</em></strong>&nbsp\;of 8-10 guests with individuals interested in supporting Rise&rsquo\;s mission at our fundraising breakfast? Include their full names and any of the above information with your RSVP.</span><br />\n<span style="color:black\;">We are currently seeking <strong>event sponsors</strong>&nbsp\;for our calendar of events throughout 2025\, which includes an online awareness campaign\, an online fundraising auction\,&nbsp\;and a business networking event. Interested in learning more or sponsoring? Contact Tom at </span><span style="color:#1F76C2\;"><a href="mailto:tbrinker@rise.org" title="mailto:tbrinker@rise.org"><span style="color:#1F76C2\;">tbrinker@rise.org</span></a></span><span style="color:black\;">&nbsp\;or&nbsp\;763-792-2450.</span><br />\n&nbsp\;<br />\n<span style="color:black\;">Here is the link to the event on our website: <a href="https://rise.org/occasion/rise-fundraising-breakfast/" target="_blank" title="https://rise.org/occasion/rise-fundraising-breakfast/">Rise Fundraising Breakfast - Rise</a></span>
LOCATION:Location: Banquets of Minnesota\; 6310 Hwy 65 NE\, Fridley\, MN 55432
UID:e.2754.12359
SEQUENCE:3
DTSTAMP:20260422T204847Z
URL:https://chambermaster.businesscentralmagazine.com/events/details/rise-and-shine-fundraising-breakfast-12359
END:VEVENT

END:VCALENDAR
