BEGIN:VCALENDAR
VERSION:2.0
PRODID:-//ChamberMaster//Event Calendar 2.0//EN
METHOD:PUBLISH
X-PUBLISHED-TTL:P3D
REFRESH-INTERVAL:P3D
CALSCALE:GREGORIAN
BEGIN:VEVENT
DTSTART:20250710T150000Z
DTEND:20250710T160000Z
X-MICROSOFT-CDO-ALLDAYEVENT:FALSE
SUMMARY:Ribbon Cutting - The Camera Shop/The Print Refinery - 7/10/25
DESCRIPTION:The Camera Shop & The Print Refinery merge\n\n.
X-ALT-DESC;FMTTYPE=text/html:<br />\n<br />\n<font color="#0000ff"><span style="font-size: 16px\;"><b><i>The Camera Shop &amp\; The Print Refinery merge</i></b></span></font><br />\n.
LOCATION:The Camera Shop 25 7th Ave S.\, Ste 200 St. Cloud\, MN 56301
UID:e.2754.12283
SEQUENCE:3
DTSTAMP:20260423T011433Z
URL:https://chambermaster.businesscentralmagazine.com/events/details/ribbon-cutting-the-camera-shop-the-print-refinery-7-10-25-12283
END:VEVENT

END:VCALENDAR
