BEGIN:VCALENDAR
VERSION:2.0
PRODID:-//ChamberMaster//Event Calendar 2.0//EN
METHOD:PUBLISH
X-PUBLISHED-TTL:P3D
REFRESH-INTERVAL:P3D
CALSCALE:GREGORIAN
BEGIN:VEVENT
DTSTART:20250204T230000Z
DTEND:20250204T233000Z
X-MICROSOFT-CDO-ALLDAYEVENT:FALSE
SUMMARY:Ribbon Cutting - St. Cloud Financial Credit Union - 2/4/25
DESCRIPTION:BRANCH CONSTRUCTION AND RENOVATION RIBBON CUTTING\n\nPlease join us in celebrating our newly renovated St. Cloud location! We will have a ribbon cutting to mark the occassion along with hosting Business After Hours!\n\n\n\n\nwht
X-ALT-DESC;FMTTYPE=text/html:<br />\n<br />\n<strong><em><span style="font-size:16px\;"><span style="color:#0000FF\;">BRANCH CONSTRUCTION AND RENOVATION RIBBON CUTTING</span></span></em></strong><br />\nPlease join us in celebrating our newly renovated St. Cloud location! We will have a ribbon cutting to mark the occassion along with hosting Business After Hours!\n<p><br />\n<br />\n<b><span style="font-size:7.0pt\;color:white">wht</span></b></p>\n
LOCATION:St. Cloud Financial Credit Union 3030 1st St S St. Cloud\, MN 56301
UID:e.2754.11356
SEQUENCE:3
DTSTAMP:20260423T100622Z
URL:https://chambermaster.businesscentralmagazine.com/events/details/ribbon-cutting-st-cloud-financial-credit-union-2-4-25-11356
END:VEVENT

END:VCALENDAR
