BEGIN:VCALENDAR
VERSION:2.0
PRODID:-//ChamberMaster//Event Calendar 2.0//EN
METHOD:PUBLISH
X-PUBLISHED-TTL:P3D
REFRESH-INTERVAL:P3D
CALSCALE:GREGORIAN
BEGIN:VEVENT
DTSTART:20250804T160000Z
DTEND:20250804T170000Z
X-MICROSOFT-CDO-ALLDAYEVENT:FALSE
SUMMARY:Ribbon Cutting - Qwik Pack and Ship St. Cloud - 8/4/25
DESCRIPTION:RIBBON CUTTING\n\n\n\nPlease join us
X-ALT-DESC;FMTTYPE=text/html:<br />\n<br />\n<strong><em><span style="font-size:16px\;"><span style="color:#0000FF\;">RIBBON CUTTING</span></span></em></strong><br />\n<br />\n<span style="font-size:16px\;"><span style="color:#0000FF\;"><strong><em>Please join us&nbsp\;</em></strong></span></span>
LOCATION:Qwik Pack and Ship St. Cloud 20 15th Ave. S. St. Cloud\, MN 56301
UID:e.2754.12344
SEQUENCE:3
DTSTAMP:20260422T235352Z
URL:https://chambermaster.businesscentralmagazine.com/events/details/ribbon-cutting-qwik-pack-and-ship-st-cloud-8-4-25-12344
END:VEVENT

END:VCALENDAR
