BEGIN:VCALENDAR
VERSION:2.0
PRODID:-//ChamberMaster//Event Calendar 2.0//EN
METHOD:PUBLISH
X-PUBLISHED-TTL:P3D
REFRESH-INTERVAL:P3D
CALSCALE:GREGORIAN
BEGIN:VEVENT
DTSTART:20250711T150000Z
DTEND:20250711T160000Z
X-MICROSOFT-CDO-ALLDAYEVENT:FALSE
SUMMARY:Ribbon Cutting - Motor 4-11-2023
DESCRIPTION:Motor Works Auto Repair is having a ribbon cutting ceremony at 10:00 am..
X-ALT-DESC;FMTTYPE=text/html:<br />\n<br />\nMotor Works Auto Repair is having a ribbon cutting ceremony at 10:00 am..
LOCATION:Motor Works Auto Repair - Fleet Service Center 822 Sundial Drive Waite Park\, MN 56387
UID:e.2754.12301
SEQUENCE:3
DTSTAMP:20260423T011145Z
URL:https://chambermaster.businesscentralmagazine.com/events/details/ribbon-cutting-motor-4-11-2023-12301
END:VEVENT

END:VCALENDAR
