BEGIN:VCALENDAR
VERSION:2.0
PRODID:-//ChamberMaster//Event Calendar 2.0//EN
METHOD:PUBLISH
X-PUBLISHED-TTL:P3D
REFRESH-INTERVAL:P3D
CALSCALE:GREGORIAN
BEGIN:VEVENT
DTSTART:20250920T173000Z
DTEND:20250920T180000Z
X-MICROSOFT-CDO-ALLDAYEVENT:FALSE
SUMMARY:Ribbon Cutting - Lunds & Byerlys - 9/20/25
DESCRIPTION:RIBBON CUTTING\n\n\n\nPlease join us
X-ALT-DESC;FMTTYPE=text/html:<br />\n<br />\n<strong><em><span style="font-size:16px\;"><span style="color:#0000FF\;">RIBBON CUTTING</span></span></em></strong><br />\n<br />\nPlease join us&nbsp\;
LOCATION:Lunds & Byerlys 2510 W. Divsion St. Saint Cloud\, MN 56301
UID:e.2754.12363
SEQUENCE:3
DTSTAMP:20260422T222239Z
URL:https://chambermaster.businesscentralmagazine.com/events/details/ribbon-cutting-lunds-byerlys-9-20-25-12363
END:VEVENT

END:VCALENDAR
