BEGIN:VCALENDAR
VERSION:2.0
PRODID:-//ChamberMaster//Event Calendar 2.0//EN
METHOD:PUBLISH
X-PUBLISHED-TTL:P3D
REFRESH-INTERVAL:P3D
CALSCALE:GREGORIAN
BEGIN:VEVENT
DTSTART:20231101T160000Z
DTEND:20231101T163000Z
X-MICROSOFT-CDO-ALLDAYEVENT:FALSE
SUMMARY:Ribbon Cutting - Jefferson 11-1-2023
DESCRIPTION:Jefferson Capital Systems\, LLC is having a ribbon cutting ceremony at 11:00a.m.
X-ALT-DESC;FMTTYPE=text/html:<br />\n<br />\nJefferson Capital Systems\, LLC is having a ribbon cutting ceremony at 11:00a.m.&nbsp\; &nbsp\;&nbsp\;
LOCATION:Jefferson Capital Systems\, LLC 200 14th Ave E Sartell\, MN 56303
UID:e.2754.10760
SEQUENCE:3
DTSTAMP:20260424T080306Z
URL:https://chambermaster.businesscentralmagazine.com/events/details/ribbon-cutting-jefferson-11-1-2023-10760
END:VEVENT

END:VCALENDAR
