BEGIN:VCALENDAR
VERSION:2.0
PRODID:-//ChamberMaster//Event Calendar 2.0//EN
METHOD:PUBLISH
X-PUBLISHED-TTL:P3D
REFRESH-INTERVAL:P3D
CALSCALE:GREGORIAN
BEGIN:VEVENT
DTSTART:20250620T210000Z
DTEND:20250620T220000Z
X-MICROSOFT-CDO-ALLDAYEVENT:FALSE
SUMMARY:Ribbon Cutting - Family Achievement Center of Central MN
DESCRIPTION:Family Achievement Center of Central MN Ribbon Cutting
X-ALT-DESC;FMTTYPE=text/html:Family Achievement Center of Central MN Ribbon Cutting
LOCATION:2904 Roosevelt Rd Ste 1 Saint Cloud\, MN 56301
UID:e.2754.12275
SEQUENCE:3
DTSTAMP:20260423T025716Z
URL:https://chambermaster.businesscentralmagazine.com/events/details/ribbon-cutting-family-achievement-center-of-central-mn-12275
END:VEVENT

END:VCALENDAR
