BEGIN:VCALENDAR
VERSION:2.0
PRODID:-//ChamberMaster//Event Calendar 2.0//EN
METHOD:PUBLISH
X-PUBLISHED-TTL:P3D
REFRESH-INTERVAL:P3D
CALSCALE:GREGORIAN
BEGIN:VEVENT
DTSTART:20250713T180000Z
DTEND:20250713T190000Z
X-MICROSOFT-CDO-ALLDAYEVENT:FALSE
SUMMARY:Ribbon Cutting - ETS Performance - 7/13/25
DESCRIPTION:RIBBON CUTTING\n\n\n\nPlease join us
X-ALT-DESC;FMTTYPE=text/html:<br />\n<br />\n<strong><em><span style="font-size:16px\;"><span style="color:#0000FF\;">RIBBON CUTTING</span></span></em></strong><br />\n<br />\nPlease join us&nbsp\;
LOCATION:ETS Performance Central Lakes 1000 S. Benton Dr. Unit 421 Sauk Rapids\, MN 56379-1419
UID:e.2754.12300
SEQUENCE:3
DTSTAMP:20260423T023935Z
URL:https://chambermaster.businesscentralmagazine.com/events/details/ribbon-cutting-ets-performance-7-13-25-12300
END:VEVENT

END:VCALENDAR
