BEGIN:VCALENDAR
VERSION:2.0
PRODID:-//ChamberMaster//Event Calendar 2.0//EN
METHOD:PUBLISH
X-PUBLISHED-TTL:P3D
REFRESH-INTERVAL:P3D
CALSCALE:GREGORIAN
BEGIN:VEVENT
DTSTART:20250912T150000Z
DTEND:20250912T160000Z
X-MICROSOFT-CDO-ALLDAYEVENT:FALSE
SUMMARY:Ribbon Cutting - Crown Liquor and Wine - 9/12/25
DESCRIPTION:RIBBON CUTTING\n\n\n\nPlease join us
X-ALT-DESC;FMTTYPE=text/html:<br />\n<br />\n<strong><em><span style="font-size:16px\;"><span style="color:#0000FF\;">RIBBON CUTTING</span></span></em></strong><br />\n<br />\nPlease join us&nbsp\;
LOCATION:Crown Liquor and Wine 80 33rd Ave South Saint Cloud\, MN 56301-3722
UID:e.2754.12342
SEQUENCE:3
DTSTAMP:20260422T222439Z
URL:https://chambermaster.businesscentralmagazine.com/events/details/ribbon-cutting-crown-liquor-and-wine-9-12-25-12342
END:VEVENT

END:VCALENDAR
