BEGIN:VCALENDAR
VERSION:2.0
PRODID:-//ChamberMaster//Event Calendar 2.0//EN
METHOD:PUBLISH
X-PUBLISHED-TTL:P3D
REFRESH-INTERVAL:P3D
CALSCALE:GREGORIAN
BEGIN:VEVENT
DTSTART:20250721T160000Z
DTEND:20250722T040000Z
X-MICROSOFT-CDO-ALLDAYEVENT:FALSE
SUMMARY:Ribbon Cutting - Central Towing Service
DESCRIPTION:Join us for a grand opening ribbon cutting celebration at Central Towing!
X-ALT-DESC;FMTTYPE=text/html:<br />\nJoin us for a grand opening ribbon cutting celebration at Central Towing!
LOCATION:1136 Kuhn Dr St Cloud\, MN 56301
UID:e.2754.12288
SEQUENCE:3
DTSTAMP:20260423T011027Z
URL:https://chambermaster.businesscentralmagazine.com/events/details/ribbon-cutting-central-towing-service-12288
END:VEVENT

END:VCALENDAR
